BEGIN:VCALENDAR
VERSION:2.0
PRODID:-//Catholic Family Services of Toronto - ECPv6.15.20//NONSGML v1.0//EN
CALSCALE:GREGORIAN
METHOD:PUBLISH
X-WR-CALNAME:Catholic Family Services of Toronto
X-ORIGINAL-URL:https://www.cfstoronto.com
X-WR-CALDESC:Events for Catholic Family Services of Toronto
REFRESH-INTERVAL;VALUE=DURATION:PT1H
X-Robots-Tag:noindex
X-PUBLISHED-TTL:PT1H
BEGIN:VTIMEZONE
TZID:America/New_York
BEGIN:DAYLIGHT
TZOFFSETFROM:-0500
TZOFFSETTO:-0400
TZNAME:EDT
DTSTART:20240310T070000
END:DAYLIGHT
BEGIN:STANDARD
TZOFFSETFROM:-0400
TZOFFSETTO:-0500
TZNAME:EST
DTSTART:20241103T060000
END:STANDARD
BEGIN:DAYLIGHT
TZOFFSETFROM:-0500
TZOFFSETTO:-0400
TZNAME:EDT
DTSTART:20250309T070000
END:DAYLIGHT
BEGIN:STANDARD
TZOFFSETFROM:-0400
TZOFFSETTO:-0500
TZNAME:EST
DTSTART:20251102T060000
END:STANDARD
BEGIN:DAYLIGHT
TZOFFSETFROM:-0500
TZOFFSETTO:-0400
TZNAME:EDT
DTSTART:20260308T070000
END:DAYLIGHT
BEGIN:STANDARD
TZOFFSETFROM:-0400
TZOFFSETTO:-0500
TZNAME:EST
DTSTART:20261101T060000
END:STANDARD
END:VTIMEZONE
BEGIN:VEVENT
DTSTART;TZID=America/New_York:20250501T050000
DTEND;TZID=America/New_York:20250501T070000
DTSTAMP:20260422T201744
CREATED:20250423T202932Z
LAST-MODIFIED:20250423T233939Z
UID:26553-1746075600-1746082800@www.cfstoronto.com
SUMMARY:In-Person Grief Support Session
DESCRIPTION:Topic: May Grief: meaning and mindfulness \nRegister at: https://nbgss0525.eventbrite.ca
URL:https://www.cfstoronto.com/event/in-person-grief-support-session-10/
LOCATION:Archdiocese of Toronto\, 1155 Yonge St.\, Toronto\, Ontario\, M4T1W2\, Canada
CATEGORIES:Bereavement Support Group,New Beginnings
ORGANIZER;CN="Catholic Family Services of Toronto":MAILTO:info@cfstoronto.com
END:VEVENT
BEGIN:VEVENT
DTSTART;TZID=America/New_York:20250501T140000
DTEND;TZID=America/New_York:20250501T160000
DTSTAMP:20260422T201744
CREATED:20250423T203307Z
LAST-MODIFIED:20250423T234124Z
UID:26555-1746108000-1746115200@www.cfstoronto.com
SUMMARY:Separated/Divorced Introductory Program
DESCRIPTION:Topic: exploring grief\, experiencing healing\, and renewing faith \nRegister at: https://nbsdstd0525.eventbrite.ca \n 
URL:https://www.cfstoronto.com/event/online-separated-divorced-introductory-program-8/
LOCATION:Online Via Zoom
CATEGORIES:Separated and Divorced Support Group
END:VEVENT
BEGIN:VEVENT
DTSTART;TZID=America/New_York:20250506T140000
DTEND;TZID=America/New_York:20250506T160000
DTSTAMP:20260422T201744
CREATED:20250326T192115Z
LAST-MODIFIED:20250326T192525Z
UID:25972-1746540000-1746547200@www.cfstoronto.com
SUMMARY:Love after Loss
DESCRIPTION:Subsidies are available \nMay 6 – June 10 \nThe Love after Loss Wellness Program offers both women and men a learning environment which is safe\, welcoming\, and non-judgmental. This 6-week\, psycho-educational program\, explores the necessary elements of a healthy long-term relationship.
URL:https://www.cfstoronto.com/event/love-after-loss-5/
LOCATION:Online Via Zoom
CATEGORIES:Love After Loss,Wellness Counselling
ATTACH;FMTTYPE=application/pdf:https://www.cfstoronto.com/wp-content/uploads/2025/03/Love-after-Loss-May-June2025.pdf
ORGANIZER;CN="Catholic Family Services of Toronto":MAILTO:info@cfstoronto.com
END:VEVENT
BEGIN:VEVENT
DTSTART;TZID=America/New_York:20250507T133000
DTEND;TZID=America/New_York:20250507T153000
DTSTAMP:20260422T201744
CREATED:20250328T010617Z
LAST-MODIFIED:20250328T010617Z
UID:25994-1746624600-1746631800@www.cfstoronto.com
SUMMARY:Understanding Abuse
DESCRIPTION:Subsidies are available
URL:https://www.cfstoronto.com/event/understanding-abuse-8/
LOCATION:Online Via Zoom
CATEGORIES:Understanding Abuse
ATTACH;FMTTYPE=application/pdf:https://www.cfstoronto.com/wp-content/uploads/2025/03/Understanding-Abuse-Spring-2025.pdf
ORGANIZER;CN="Catholic Family Services of Toronto":MAILTO:info@cfstoronto.com
END:VEVENT
BEGIN:VEVENT
DTSTART;TZID=America/New_York:20250521T140000
DTEND;TZID=America/New_York:20250521T160000
DTSTAMP:20260422T201744
CREATED:20250423T203744Z
LAST-MODIFIED:20250423T203744Z
UID:26557-1747836000-1747843200@www.cfstoronto.com
SUMMARY:Online Seminar: Your Body and Grief
DESCRIPTION:Topic: emotions\, dietary essentials and everyday scheduling \nRegister at: https://ybg0525.eventbrite.ca
URL:https://www.cfstoronto.com/event/online-seminar-your-body-and-grief/
CATEGORIES:Online Seminar: Your Body and Grief
END:VEVENT
BEGIN:VEVENT
DTSTART;TZID=America/New_York:20250528T140000
DTEND;TZID=America/New_York:20250528T160000
DTSTAMP:20260422T201744
CREATED:20250423T204024Z
LAST-MODIFIED:20250423T204024Z
UID:26559-1748440800-1748448000@www.cfstoronto.com
SUMMARY:Online Drop-In Bereavement Support Session
DESCRIPTION:Topic: Springtime: meaning through mourning \nRegister at: https://nbbd0525.eventbrite.ca
URL:https://www.cfstoronto.com/event/online-drop-in-bereavement-support-session-11/
CATEGORIES:Online Drop-In Bereavement Support
END:VEVENT
BEGIN:VEVENT
DTSTART;TZID=America/New_York:20250529T133000
DTEND;TZID=America/New_York:20250529T153000
DTSTAMP:20260422T201744
CREATED:20241119T015037Z
LAST-MODIFIED:20250522T190233Z
UID:22617-1748525400-1748532600@www.cfstoronto.com
SUMMARY:Re-marriage Preparation Course for Couples Group #7497
DESCRIPTION:Dates – May 29\, June 5\, 12\, 19 & 26\n  \n** THIS COURSE IS FOR COUPLES WHERE ONE OF THE PARTNERS HAS BEEN PREVIOUSLY MARRIED TO SOMEONE ELSE. IF NEITHER OF YOU HAVE BEEN PREVIOUSLY MARRIED TO SOMEONE ELSE\, PLEASE REGISTER FOR A MARRIAGE PREPARATION COURSE. ** \n  \nRe-marriage preparation is a FIVE session course that prepares couples for the Sacrament of Marriage. \nThe sessions take place at the same time and on the same day of the week for consecutive weeks unless otherwise noted. \n  \nPlease complete both the registration AND payment to guarantee your place in the group. These are two separate steps. \nThe link to complete the forms is below. You can click it now and it will open in a different tab and you will be able to fill out the forms after you’ve completed the payment process. If you do choose to fill out the “forms” page first\, please switch back to the “payment” tab after to complete that part of the registration. You can usually switch between tabs at the top of your browser. \nRe-Marriage Preparation Application – Catholic Family Services of Toronto (cfstoronto.com) \n  \n** Cost is per couple – One “ticket” covers BOTH partners. Be sure to click the “+” next to the “0” below to change it to “1” and enable the “Get Tickets” button. \n  \n** NOTE 1 – This registration does NOT include the books\, which are MANDATORY for the course. Please see your confirmation email once you’ve registered for how to purchase the course materials. Because our payment provider only sends out one confirmation email\, the registering partner will receive it immediately while the other partner will receive confirmation once we process the registration internally (usually within a few business days). \n  \n** NOTE 2 – Once you’ve completed both parts of the registration (payment and forms)\, you’ll be automatically registered for an individualized compatibility assessment called Prepare and Enrich©. You’ll receive an email from them\, generally within a couple days following your registration\, with instructions on how to complete this exercise. This activity must be completed prior to your pre-marriage review session (see “NOTE 3”). \n  \n** NOTE 3 – If you know/think you will be missing a session in the group you are considering\, kindly choose another course. Our resources for make-up classes are very limited and we may not be able to handle all requests. If you end up having to miss a class\, you may have to switch to a later group. \n  \n** NOTE 4 – We usually send the Zoom link out just before the start of the month in which your class begins. Since we send these out to multiple couples at once\, they sometimes go to your spam/junk mail folder. Please check there if you haven’t received the Zoom link. \nFor example\, if your group is starting in October\, you’ll receive the Zoom link before the end of September\, usually towards the very end of it. \n  \n** NOTE 5 – There is a $75 cancellation fee should you need to withdraw from the course after registering. \n  \nNumber of Sessions: 5 \n  \nDay(s) of Week: Thursdays \n  \n** Marriage Preparation Course FAQs **
URL:https://www.cfstoronto.com/event/re-marriage-preparation-course-for-couples-group-7497/
LOCATION:Online Via Zoom
CATEGORIES:Re-Marriage Preparation
ORGANIZER;CN="Catholic Family Services of Toronto":MAILTO:info@cfstoronto.com
END:VEVENT
BEGIN:VEVENT
DTSTART;TZID=America/New_York:20250529T140000
DTEND;TZID=America/New_York:20250529T160000
DTSTAMP:20260422T201744
CREATED:20250423T213024Z
LAST-MODIFIED:20250423T234437Z
UID:26561-1748527200-1748534400@www.cfstoronto.com
SUMMARY:Online Drop-In Separated/Divorced Support Session
DESCRIPTION:Topic: Springtime: meaning through mourning \nRegister at: https://nbsdd0525.eventbrite.ca
URL:https://www.cfstoronto.com/event/online-drop-in-separated-divorced-support-session-11/
CATEGORIES:Online Drop-In Separated/Divorced Support Session
END:VEVENT
END:VCALENDAR