BEGIN:VCALENDAR
VERSION:2.0
PRODID:-//Catholic Family Services of Toronto - ECPv6.15.20//NONSGML v1.0//EN
CALSCALE:GREGORIAN
METHOD:PUBLISH
X-ORIGINAL-URL:https://www.cfstoronto.com
X-WR-CALDESC:Events for Catholic Family Services of Toronto
REFRESH-INTERVAL;VALUE=DURATION:PT1H
X-Robots-Tag:noindex
X-PUBLISHED-TTL:PT1H
BEGIN:VTIMEZONE
TZID:America/New_York
BEGIN:DAYLIGHT
TZOFFSETFROM:-0500
TZOFFSETTO:-0400
TZNAME:EDT
DTSTART:20230312T070000
END:DAYLIGHT
BEGIN:STANDARD
TZOFFSETFROM:-0400
TZOFFSETTO:-0500
TZNAME:EST
DTSTART:20231105T060000
END:STANDARD
BEGIN:DAYLIGHT
TZOFFSETFROM:-0500
TZOFFSETTO:-0400
TZNAME:EDT
DTSTART:20240310T070000
END:DAYLIGHT
BEGIN:STANDARD
TZOFFSETFROM:-0400
TZOFFSETTO:-0500
TZNAME:EST
DTSTART:20241103T060000
END:STANDARD
BEGIN:DAYLIGHT
TZOFFSETFROM:-0500
TZOFFSETTO:-0400
TZNAME:EDT
DTSTART:20250309T070000
END:DAYLIGHT
BEGIN:STANDARD
TZOFFSETFROM:-0400
TZOFFSETTO:-0500
TZNAME:EST
DTSTART:20251102T060000
END:STANDARD
END:VTIMEZONE
BEGIN:VEVENT
DTSTART;TZID=America/New_York:20240605T050000
DTEND;TZID=America/New_York:20240605T070000
DTSTAMP:20260422T043506
CREATED:20240521T230239Z
LAST-MODIFIED:20240521T230317Z
UID:19105-1717563600-1717570800@www.cfstoronto.com
SUMMARY:In-Person Grief Support Session
DESCRIPTION:In-Person Grief Support Session June 5 from 10:00 am – 12:00 pm \nTopic: Share discussions with others in a safe\, welcoming\, and non-judgmental in-person forum.  \nRegister at: https://nbgss0624.eventbrite.ca
URL:https://www.cfstoronto.com/event/in-person-grief-support-session-3/
LOCATION:Archdiocese of Toronto\, 1155 Yonge St.\, Toronto\, Ontario\, M4T1W2\, Canada
CATEGORIES:Bereavement Support Group,New Beginnings
ATTACH;FMTTYPE=application/pdf:https://www.cfstoronto.com/wp-content/uploads/2024/05/In-Person-Grief-Support-Session-June-2024.pdf
ORGANIZER;CN="Catholic Family Services of Toronto":MAILTO:info@cfstoronto.com
END:VEVENT
BEGIN:VEVENT
DTSTART;TZID=America/New_York:20240608T050000
DTEND;TZID=America/New_York:20240608T093000
DTSTAMP:20260422T043506
CREATED:20240411T044818Z
LAST-MODIFIED:20240411T044818Z
UID:18206-1717822800-1717839000@www.cfstoronto.com
SUMMARY:Hold Me Tight® Group
DESCRIPTION:
URL:https://www.cfstoronto.com/event/hold-me-tight-group-4/
LOCATION:Online Via Zoom
CATEGORIES:Hold Me Tight®
ATTACH;FMTTYPE=application/pdf:https://www.cfstoronto.com/wp-content/uploads/2024/04/Hold-Me-Tight-Spring-2024-Flyer.pdf
ORGANIZER;CN="Catholic Family Services of Toronto":MAILTO:info@cfstoronto.com
END:VEVENT
BEGIN:VEVENT
DTSTART;TZID=America/New_York:20240612T050000
DTEND;TZID=America/New_York:20240612T070000
DTSTAMP:20260422T043506
CREATED:20240521T222603Z
LAST-MODIFIED:20240521T222918Z
UID:19099-1718168400-1718175600@www.cfstoronto.com
SUMMARY:Understanding Abuse
DESCRIPTION:Subsidies are available \nUNDERSTANDING ABUSE GROUP \nThis is a psycho-educational support group for women who have experienced any\ntype of domestic abuse from an intimate partner (verbal\, emotional/ psychological\,\nfinancial\, physical\, sexual and/or spiritual abuse). We help women understand\nthat they are not to blame for the abuse and that they have choices in their lives. \nPROGRAM GOALS: \nTo ensure women’s safety; help build safety plans.\nTo foster a sense of self worth\, empowerment and control over their lives.\nTo help women understand power and control issues in their relationships. \nGROUP FOCUS: \nTo examine protection and safety issues.\nTo identify the impact of abuse on the self and the family unit.\nTo build a positive self concept.\nTo identify and deal with feelings.\nTo gain strength from others and break isolation.\nTo share and problem solve together. \nUPCOMING DATES: Wednesdays\, June 12 to July 31\, 2024 (8 weeks)\nTIME: 10:00 am – 12:00 noon\nCOST: $30 per session (subsidies may be available on request)\nLOCATION: Online (Note: A working microphone and camera are required.) \nAll applicants are required to have a screening interview and are also required to\nhave their own individual counsellor for additional support. \nFor further information and to register\, speak with \nAngie Slingerland (416) 222-0048 X 226 or Carrie Lau (416) 921-1163 X 2253\ncontact by email at aslinger@staging.cfstoronto.com or clau@staging.cfstoronto.com
URL:https://www.cfstoronto.com/event/understanding-abuse-5/
LOCATION:Online Via Zoom
CATEGORIES:Understanding Abuse
ATTACH;FMTTYPE=application/pdf:https://www.cfstoronto.com/wp-content/uploads/2024/05/Understanding-Abuse-Group-Summer-2024.pdf
ORGANIZER;CN="Catholic Family Services of Toronto":MAILTO:info@cfstoronto.com
END:VEVENT
BEGIN:VEVENT
DTSTART;TZID=America/New_York:20240613T140000
DTEND;TZID=America/New_York:20240613T160000
DTSTAMP:20260422T043506
CREATED:20240215T212418Z
LAST-MODIFIED:20240416T022352Z
UID:16834-1718287200-1718294400@www.cfstoronto.com
SUMMARY:Marriage Preparation Course for Couples Group #7265
DESCRIPTION:Dates – June 13\, 20\, 27\, July 4\, 11 & 18\n  \nMarriage preparation is a SIX session course that prepares couples for the Sacrament of Marriage. \nThe sessions take place at the same time and on the same day of the week for consecutive weeks unless otherwise noted. \nPlease complete both the registration AND payment to guarantee your place in the group. These are two separate steps. \n** PLEASE COMPLETE PAYMENT BEFORE FILLING OUT FORMS TO ENSURE THAT THE GROUP IS OPEN AND YOU HAVE A SPOT. If you cannot complete the payment it means the group is closed and you will need to select a different one. ** \nThe link to complete the forms is below. You can click it now and it will open in a different tab and you will be able to fill out the forms after you’ve completed the payment process. You can usually switch between tabs at the top of your browser. \n  \nMarriage Preparation Application – Catholic Family Services of Toronto (cfstoronto.com) \n  \n** Cost is per couple – One “ticket” covers BOTH partners. Be sure to click the “+” next to the “0” below to change it to “1” and enable the “Get Tickets” button. \n  \n** NOTE 1 – This registration does NOT include the books. Please see your confirmation email once you’ve registered for how to purchase the course materials. Because our payment provider only sends out one confirmation email\, the registering partner will receive it immediately while the other partner will receive confirmation once we process the registration internally (usually within a few business days). \n  \n** NOTE 2 – Once you’ve completed both parts of the registration (payment and forms)\, you’ll be automatically registered for an individualized compatibility assessment called Prepare and Enrich©. You’ll receive an email from them\, generally within a couple days following your registration\, with instructions on how to complete this exercise. This activity must be completed prior to your pre-marriage review session (see “NOTE 3”). \n  \n** NOTE 3 – There is a separate “pre-marriage review” session which takes place after the end of the course. If you haven’t heard from us by the time your course ends or there is a quick turnaround time between the end of your course and your wedding\, please get in touch with us to schedule it. Once this session is complete you will receive your certificate. \n  \n** NOTE 4 – If you know/think you will be missing a session in the group you are considering\, kindly choose another course. Our resources for make-up classes are very limited and we may not be able to handle all requests. If you end up having to miss a class\, you may have to switch to a later group. \n  \n** NOTE 5 – We usually send the Zoom link out just before the start of the month in which your class begins. Since we send these out to multiple couples at once\, they sometimes go to your spam/junk mail folder. Please check there if you haven’t received the Zoom link. \nFor example\, if your group is starting in October\, you’ll receive the Zoom link before the end of September\, usually towards the very end of it. \n  \n** NOTE 6 – There is a $75 cancellation fee should you need to withdraw from the course after registering. \n  \nNumber of Sessions: 6 \n  \nDay(s) of Week: Thursdays \n  \n** Marriage Preparation Course FAQs **
URL:https://www.cfstoronto.com/event/marriage-preparation-course-for-couples-group-7265/
LOCATION:Online Via Zoom
CATEGORIES:Marriage Preparation for Couples
ORGANIZER;CN="Catholic Family Services of Toronto":MAILTO:info@cfstoronto.com
END:VEVENT
BEGIN:VEVENT
DTSTART;TZID=America/New_York:20240615T050000
DTEND;TZID=America/New_York:20240615T080000
DTSTAMP:20260422T043507
CREATED:20240215T212735Z
LAST-MODIFIED:20240215T212805Z
UID:16837-1718427600-1718438400@www.cfstoronto.com
SUMMARY:Marriage Preparation Course for Couples Group #7266
DESCRIPTION:Dates – June 15\, 22\, July 6 & 13\n** NO CLASS June 29 **\n  \nMarriage preparation is a FOUR session course that prepares couples for the Sacrament of Marriage. \nThe sessions take place at the same time and on the same day of the week for consecutive weeks unless otherwise noted. \nPlease complete both the registration AND payment to guarantee your place in the group. These are two separate steps. \n** PLEASE COMPLETE PAYMENT BEFORE FILLING OUT FORMS TO ENSURE THAT THE GROUP IS OPEN AND YOU HAVE A SPOT. If you cannot complete the payment it means the group is closed and you will need to select a different one. ** \nThe link to complete the forms is below. You can click it now and it will open in a different tab and you will be able to fill out the forms after you’ve completed the payment process. You can usually switch between tabs at the top of your browser. \n  \nMarriage Preparation Application – Catholic Family Services of Toronto (cfstoronto.com) \n  \n** Cost is per couple – One “ticket” covers BOTH partners. Be sure to click the “+” next to the “0” below to change it to “1” and enable the “Get Tickets” button. \n  \n** NOTE 1 – This registration does NOT include the books. Please see your confirmation email once you’ve registered for how to purchase the course materials. Because our payment provider only sends out one confirmation email\, the registering partner will receive it immediately while the other partner will receive confirmation once we process the registration internally (usually within a few business days). \n  \n** NOTE 2 – Once you’ve completed both parts of the registration (payment and forms)\, you’ll be automatically registered for an individualized compatibility assessment called Prepare and Enrich©. You’ll receive an email from them\, generally within a couple days following your registration\, with instructions on how to complete this exercise. This activity must be completed prior to your pre-marriage review session (see “NOTE 3”). \n  \n** NOTE 3 – There is a separate “pre-marriage review” session which takes place after the end of the course. If you haven’t heard from us by the time your course ends or there is a quick turnaround time between the end of your course and your wedding\, please get in touch with us to schedule it. Once this session is complete you will receive your certificate. \n  \n** NOTE 4 – If you know/think you will be missing a session in the group you are considering\, kindly choose another course. Our resources for make-up classes are very limited and we may not be able to handle all requests. If you end up having to miss a class\, you may have to switch to a later group. \n  \n** NOTE 5 – We usually send the Zoom link out just before the start of the month in which your class begins. Since we send these out to multiple couples at once\, they sometimes go to your spam/junk mail folder. Please check there if you haven’t received the Zoom link. \nFor example\, if your group is starting in October\, you’ll receive the Zoom link before the end of September\, usually towards the very end of it. \n  \n** NOTE 6 – There is a $75 cancellation fee should you need to withdraw from the course after registering. \n  \nNumber of Sessions: 4 \n  \nDay(s) of Week: Saturdays \n  \n** Marriage Preparation Course FAQs **
URL:https://www.cfstoronto.com/event/marriage-preparation-course-for-couples-group-7266/
LOCATION:Online Via Zoom
CATEGORIES:Marriage Preparation for Couples
ORGANIZER;CN="Catholic Family Services of Toronto":MAILTO:info@cfstoronto.com
END:VEVENT
END:VCALENDAR