BEGIN:VCALENDAR
VERSION:2.0
PRODID:-//Catholic Family Services of Toronto - ECPv6.15.20//NONSGML v1.0//EN
CALSCALE:GREGORIAN
METHOD:PUBLISH
X-ORIGINAL-URL:https://www.cfstoronto.com
X-WR-CALDESC:Events for Catholic Family Services of Toronto
REFRESH-INTERVAL;VALUE=DURATION:PT1H
X-Robots-Tag:noindex
X-PUBLISHED-TTL:PT1H
BEGIN:VTIMEZONE
TZID:America/New_York
BEGIN:DAYLIGHT
TZOFFSETFROM:-0500
TZOFFSETTO:-0400
TZNAME:EDT
DTSTART:20220313T070000
END:DAYLIGHT
BEGIN:STANDARD
TZOFFSETFROM:-0400
TZOFFSETTO:-0500
TZNAME:EST
DTSTART:20221106T060000
END:STANDARD
BEGIN:DAYLIGHT
TZOFFSETFROM:-0500
TZOFFSETTO:-0400
TZNAME:EDT
DTSTART:20230312T070000
END:DAYLIGHT
BEGIN:STANDARD
TZOFFSETFROM:-0400
TZOFFSETTO:-0500
TZNAME:EST
DTSTART:20231105T060000
END:STANDARD
BEGIN:DAYLIGHT
TZOFFSETFROM:-0500
TZOFFSETTO:-0400
TZNAME:EDT
DTSTART:20240310T070000
END:DAYLIGHT
BEGIN:STANDARD
TZOFFSETFROM:-0400
TZOFFSETTO:-0500
TZNAME:EST
DTSTART:20241103T060000
END:STANDARD
END:VTIMEZONE
BEGIN:VEVENT
DTSTART;TZID=America/New_York:20231101T140000
DTEND;TZID=America/New_York:20231101T160000
DTSTAMP:20260421T181015
CREATED:20230213T151827Z
LAST-MODIFIED:20230711T011731Z
UID:7705-1698847200-1698854400@www.cfstoronto.com
SUMMARY:Marriage Preparation Course for Couples Group #7078
DESCRIPTION:Marriage preparation is a six session course that prepares couples for the Sacrament of Marriage. \nPlease complete the registration and payment to guarantee your place in the group. \nThe sessions take place at the same time for consecutive weeks unless otherwise noted. \n** Cost is per couple – One “ticket” covers BOTH partners. \n  \n** NOTE 1 – This registration does NOT include the books. Please see your confirmation email once you’ve registered for how to purchase the course materials. Because our payment provider only sends out one confirmation email\, the registering partner will receive it immediately while the other partner will receive confirmation once we process the registration internally (usually within a few business days). \n  \n** NOTE 2 – When paying please do so with the postal code of the billing address of the card or else the payment will be declined and a hold for the full amount may be put on your card. You will be able to enter your home address when you fill out the form (second part of the registration process). \n  \n** NOTE 3 – There is a separate “pre-marriage review” session which takes place after the end of the course. If you haven’t heard from us by the time your course ends or there is a quick turnaround time between the end of your course and your wedding\, please get in touch with us to schedule it. Once this session is complete you will receive your certificate. \n  \n** NOTE 4 – If you know/think you will be missing a session in the group you are considering\, kindly choose another course. Our resources for make-up classes are very limited and we may not be able to handle all requests. If you end up having to miss a class\, you may have to switch to a later group. \n  \n** NOTE 5 – We usually send the Zoom link out just before the start of the month in which your class begins. Since we send these out to multiple couples at once\, they sometimes go to your spam/junk mail folder. Please check there if you haven’t received the Zoom link. \n  \nNumber of Sessions: 6 \n  \nDay(s) of Week: Wednesdays
URL:https://www.cfstoronto.com/event/marriage-preparation-course-for-couples-group-7078/
LOCATION:Online Via Zoom
CATEGORIES:Marriage Preparation for Couples
ORGANIZER;CN="Catholic Family Services of Toronto":MAILTO:info@cfstoronto.com
END:VEVENT
BEGIN:VEVENT
DTSTART;TZID=America/New_York:20231104T050000
DTEND;TZID=America/New_York:20231104T080000
DTSTAMP:20260421T181015
CREATED:20230213T151931Z
LAST-MODIFIED:20230711T012143Z
UID:7707-1699074000-1699084800@www.cfstoronto.com
SUMMARY:Marriage Preparation Course for Couples Group #7080
DESCRIPTION:Marriage preparation is a four session course that prepares couples for the Sacrament of Marriage. \nPlease complete the registration and payment to guarantee your place in the group. \nThe sessions take place at the same time for consecutive weeks unless otherwise noted. \n** Cost is per couple – One “ticket” covers BOTH partners. \n  \n** NOTE 1 – This registration does NOT include the books. Please see your confirmation email once you’ve registered for how to purchase the course materials. Because our payment provider only sends out one confirmation email\, the registering partner will receive it immediately while the other partner will receive confirmation once we process the registration internally (usually within a few business days). \n  \n** NOTE 2 – When paying please do so with the postal code of the billing address of the card or else the payment will be declined and a hold for the full amount may be put on your card. You will be able to enter your home address when you fill out the form (second part of the registration process). \n  \n** NOTE 3 – There is a separate “pre-marriage review” session which takes place after the end of the course. If you haven’t heard from us by the time your course ends or there is a quick turnaround time between the end of your course and your wedding\, please get in touch with us to schedule it. Once this session is complete you will receive your certificate. \n  \n** NOTE 4 – If you know/think you will be missing a session in the group you are considering\, kindly choose another course. Our resources for make-up classes are very limited and we may not be able to handle all requests. If you end up having to miss a class\, you may have to switch to a later group. \n  \n** NOTE 5 – We usually send the Zoom link out just before the start of the month in which your class begins. Since we send these out to multiple couples at once\, they sometimes go to your spam/junk mail folder. Please check there if you haven’t received the Zoom link. \n  \nNumber of Sessions: 4 \n  \nDay(s) of Week: Saturdays
URL:https://www.cfstoronto.com/event/marriage-preparation-course-for-couples-group-7080/
LOCATION:Online Via Zoom
CATEGORIES:Marriage Preparation for Couples
ORGANIZER;CN="Catholic Family Services of Toronto":MAILTO:info@cfstoronto.com
END:VEVENT
BEGIN:VEVENT
DTSTART;TZID=America/New_York:20231107T130000
DTEND;TZID=America/New_York:20231107T160000
DTSTAMP:20260421T181015
CREATED:20230213T104017Z
LAST-MODIFIED:20231030T223101Z
UID:7438-1699362000-1699372800@www.cfstoronto.com
SUMMARY:Marriage Preparation Course for Single Partners Group #7133
DESCRIPTION:Single Partners Marriage preparation is a three-session course that prepares couples for the sacrament of marriage. This course is only for individuals who are getting married with partners who are not in the same time zone and cannot attend marriage prep together. \nPlease complete the registration and payment to guarantee your place in the group. \nThe sessions take place at the same time for consecutive weeks unless otherwise noted. \n** Cost is per individual. \n  \n** NOTE 1 – This registration does NOT include the books. Please see your confirmation email once you’ve completed registration for how to purchase the course materials. \n  \n** NOTE 2 – When paying please do so with the postal code of the billing address of the card or else the payment will be declined and a hold for the full amount may be put on your card. You will be able to enter your home address when you fill out the form (second part of the registration process). \n  \n** NOTE 3 – We usually send the Zoom link out just before the start of the month in which your class begins. Since we send these out to multiple couples at once\, they sometimes go to your spam/junk mail folder. Please check there if you haven’t received the Zoom link. \n  \nNumber of Sessions: 3 \n  \nDay(s) of Week: Tuesdays
URL:https://www.cfstoronto.com/event/marriage-preparation-course-for-single-partners-group-7133/
LOCATION:Online Via Zoom
CATEGORIES:Marriage Preparation for Single Partner
ORGANIZER;CN="Catholic Family Services of Toronto":MAILTO:info@cfstoronto.com
END:VEVENT
BEGIN:VEVENT
DTSTART;TZID=America/New_York:20231111T050000
DTEND;TZID=America/New_York:20231111T080000
DTSTAMP:20260421T181015
CREATED:20230213T152946Z
LAST-MODIFIED:20231107T163701Z
UID:7745-1699678800-1699689600@www.cfstoronto.com
SUMMARY:Marriage Preparation Course for Couples Group #7082
DESCRIPTION:Marriage preparation is a four session course that prepares couples for the Sacrament of Marriage.\n\nPlease complete the registration and payment to guarantee your place in the group.\n\nThe sessions take place at the same time for consecutive weeks unless otherwise noted.\n\n** Cost is per couple – One “ticket” covers BOTH partners.\n\n \n\n** NOTE 1 – This registration does NOT include the books. Please see your confirmation email once you’ve registered for how to purchase the course materials. Because our payment provider only sends out one confirmation email\, the registering partner will receive it immediately while the other partner will receive confirmation once we process the registration internally (usually within a few business days).\n\n \n\n** NOTE 2 – When paying please do so with the postal code of the billing address of the card or else the payment will be declined and a hold for the full amount may be put on your card. You will be able to enter your home address when you fill out the form (second part of the registration process).\n\n \n\n** NOTE 3 – There is a separate “pre-marriage review” session which takes place after the end of the course. If you haven’t heard from us by the time your course ends or there is a quick turnaround time between the end of your course and your wedding\, please get in touch with us to schedule it. Once this session is complete you will receive your certificate.\n\n \n\n** NOTE 4 – If you know/think you will be missing a session in the group you are considering\, kindly choose another course. Our resources for make-up classes are very limited and we may not be able to handle all requests. If you end up having to miss a class\, you may have to switch to a later group.\n\n \n\n** NOTE 5 – We usually send the Zoom link out just before the start of the month in which your class begins. Since we send these out to multiple couples at once\, they sometimes go to your spam/junk mail folder. Please check there if you haven’t received the Zoom link.\n\n \n\nNumber of Sessions: 4\n\n \n\nDay(s) of Week: Saturdays
URL:https://www.cfstoronto.com/event/marriage-preparation-course-for-couples-group-7082/
LOCATION:Online Via Zoom
CATEGORIES:Marriage Preparation for Couples
ORGANIZER;CN="Catholic Family Services of Toronto":MAILTO:info@cfstoronto.com
END:VEVENT
BEGIN:VEVENT
DTSTART;TZID=America/New_York:20231115T140000
DTEND;TZID=America/New_York:20231115T160000
DTSTAMP:20260421T181015
CREATED:20231012T013913Z
LAST-MODIFIED:20231012T013913Z
UID:13591-1700056800-1700064000@www.cfstoronto.com
SUMMARY:Bereavement and the Hero's Journey
DESCRIPTION:Topic: processing grief and finding strength through the Hero’s Journey narrative. \n  \nRegister at: https://nbbhj1123.eventbrite.ca
URL:https://www.cfstoronto.com/event/bereavement-and-the-heros-journey/
LOCATION:Online Via Zoom
CATEGORIES:Bereavement and the Hero's Journey
ORGANIZER;CN="Catholic Family Services of Toronto":MAILTO:info@cfstoronto.com
END:VEVENT
BEGIN:VEVENT
DTSTART;TZID=America/New_York:20231116T140000
DTEND;TZID=America/New_York:20231116T160000
DTSTAMP:20260421T181015
CREATED:20231012T014124Z
LAST-MODIFIED:20231012T014124Z
UID:13593-1700143200-1700150400@www.cfstoronto.com
SUMMARY:Annulments 101
DESCRIPTION:Topic: The Catholic Marriage Tribunal\, the annulment process and the Declaration of Nullity. \n  \nRegister: https://annul1123.eventbrite.ca
URL:https://www.cfstoronto.com/event/annulments-101/
LOCATION:Online Via Zoom
CATEGORIES:Annulments 101
ORGANIZER;CN="Catholic Family Services of Toronto":MAILTO:info@cfstoronto.com
END:VEVENT
END:VCALENDAR