BEGIN:VCALENDAR
VERSION:2.0
PRODID:-//Catholic Family Services of Toronto - ECPv6.15.20//NONSGML v1.0//EN
CALSCALE:GREGORIAN
METHOD:PUBLISH
X-WR-CALNAME:Catholic Family Services of Toronto
X-ORIGINAL-URL:https://www.cfstoronto.com
X-WR-CALDESC:Events for Catholic Family Services of Toronto
REFRESH-INTERVAL;VALUE=DURATION:PT1H
X-Robots-Tag:noindex
X-PUBLISHED-TTL:PT1H
BEGIN:VTIMEZONE
TZID:America/New_York
BEGIN:DAYLIGHT
TZOFFSETFROM:-0500
TZOFFSETTO:-0400
TZNAME:EDT
DTSTART:20220313T070000
END:DAYLIGHT
BEGIN:STANDARD
TZOFFSETFROM:-0400
TZOFFSETTO:-0500
TZNAME:EST
DTSTART:20221106T060000
END:STANDARD
BEGIN:DAYLIGHT
TZOFFSETFROM:-0500
TZOFFSETTO:-0400
TZNAME:EDT
DTSTART:20230312T070000
END:DAYLIGHT
BEGIN:STANDARD
TZOFFSETFROM:-0400
TZOFFSETTO:-0500
TZNAME:EST
DTSTART:20231105T060000
END:STANDARD
BEGIN:DAYLIGHT
TZOFFSETFROM:-0500
TZOFFSETTO:-0400
TZNAME:EDT
DTSTART:20240310T070000
END:DAYLIGHT
BEGIN:STANDARD
TZOFFSETFROM:-0400
TZOFFSETTO:-0500
TZNAME:EST
DTSTART:20241103T060000
END:STANDARD
END:VTIMEZONE
BEGIN:VEVENT
DTSTART;TZID=America/New_York:20230706T140000
DTEND;TZID=America/New_York:20230706T160000
DTSTAMP:20260421T125457
CREATED:20230213T144118Z
LAST-MODIFIED:20230421T223505Z
UID:7587-1688652000-1688659200@www.cfstoronto.com
SUMMARY:Marriage Preparation Course for Couples Group #7061
DESCRIPTION:Marriage preparation is a six session course that prepares couples for the Sacrament of Marriage. \nPlease complete the registration and payment to guarantee your place in the group. \nThe sessions take place at the same time for consecutive weeks unless otherwise noted. \n** Cost is per couple – One “ticket” covers BOTH partners. \n  \n** NOTE 1 – This registration does NOT include the books. Please see your confirmation email once you’ve registered for how to purchase the course materials. Because our payment provider only sends out one confirmation email\, the registering partner will receive it immediately while the other partner will receive confirmation once we process the registration internally (usually within a few business days). \n  \n** NOTE 2 – When paying please do so with the postal code of the billing address of the card or else the payment will be declined and a hold for the full amount may be put on your card. You will be able to enter your home address when you fill out the form (second part of the registration process). \n  \n** NOTE 3 – There is a separate “pre-marriage review” session which takes place after the end of the course. If you haven’t heard from us by the time your course ends or there is a quick turnaround time between the end of your course and your wedding\, please get in touch with us to schedule it. Once this session is complete you will receive your certificate. \n  \n** NOTE 4 – If you know/think you will be missing a session in the group you are considering\, kindly choose another course. Our resources for make-up classes are very limited and we may not be able to handle all requests. If you end up having to miss a class\, you may have to switch to a later group. \n  \n** NOTE 5 – We usually send the Zoom link out just before the start of the month in which your class begins. Since we send these out to multiple couples at once\, they sometimes go to your spam/junk mail folder. Please check there if you haven’t received the Zoom link. \n  \nNumber of Sessions: 6 \n  \nDay(s) of Week: Thursdays
URL:https://www.cfstoronto.com/event/marriage-preparation-course-for-couples-group-7061/
LOCATION:Online Via Zoom
CATEGORIES:Marriage Preparation for Couples
ORGANIZER;CN="Catholic Family Services of Toronto":MAILTO:info@cfstoronto.com
END:VEVENT
BEGIN:VEVENT
DTSTART;TZID=America/New_York:20230708T050000
DTEND;TZID=America/New_York:20230708T080000
DTSTAMP:20260421T125457
CREATED:20230213T144246Z
LAST-MODIFIED:20230421T223654Z
UID:7588-1688792400-1688803200@www.cfstoronto.com
SUMMARY:Marriage Preparation Course for Couples Group #7062
DESCRIPTION:Marriage preparation is a four session course that prepares couples for the Sacrament of Marriage. \nPlease complete the registration and payment to guarantee your place in the group. \nThe sessions take place at the same time for consecutive weeks unless otherwise noted. \n** Cost is per couple – One “ticket” covers BOTH partners. \n  \n** NOTE 1 – This registration does NOT include the books. Please see your confirmation email once you’ve registered for how to purchase the course materials. Because our payment provider only sends out one confirmation email\, the registering partner will receive it immediately while the other partner will receive confirmation once we process the registration internally (usually within a few business days). \n  \n** NOTE 2 – When paying please do so with the postal code of the billing address of the card or else the payment will be declined and a hold for the full amount may be put on your card. You will be able to enter your home address when you fill out the form (second part of the registration process). \n  \n** NOTE 3 – There is a separate “pre-marriage review” session which takes place after the end of the course. If you haven’t heard from us by the time your course ends or there is a quick turnaround time between the end of your course and your wedding\, please get in touch with us to schedule it. Once this session is complete you will receive your certificate. \n  \n** NOTE 4 – If you know/think you will be missing a session in the group you are considering\, kindly choose another course. Our resources for make-up classes are very limited and we may not be able to handle all requests. If you end up having to miss a class\, you may have to switch to a later group. \n  \n** NOTE 5 – We usually send the Zoom link out just before the start of the month in which your class begins. Since we send these out to multiple couples at once\, they sometimes go to your spam/junk mail folder. Please check there if you haven’t received the Zoom link. \n  \nNumber of Sessions: 4 \n  \nDay(s) of Week: Saturdays
URL:https://www.cfstoronto.com/event/marriage-preparation-course-for-couples-group-7062/
LOCATION:Online Via Zoom
CATEGORIES:Marriage Preparation for Couples
ORGANIZER;CN="Catholic Family Services of Toronto":MAILTO:info@cfstoronto.com
END:VEVENT
BEGIN:VEVENT
DTSTART;TZID=America/New_York:20230708T050000
DTEND;TZID=America/New_York:20230708T080000
DTSTAMP:20260421T125457
CREATED:20230213T144420Z
LAST-MODIFIED:20230421T223726Z
UID:7589-1688792400-1688803200@www.cfstoronto.com
SUMMARY:Marriage Preparation Course for Couples Group #7063
DESCRIPTION:Marriage preparation is a four session course that prepares couples for the Sacrament of Marriage. \nPlease complete the registration and payment to guarantee your place in the group. \nThe sessions take place at the same time for consecutive weeks unless otherwise noted. \n** Cost is per couple – One “ticket” covers BOTH partners. \n  \n** NOTE 1 – This registration does NOT include the books. Please see your confirmation email once you’ve registered for how to purchase the course materials. Because our payment provider only sends out one confirmation email\, the registering partner will receive it immediately while the other partner will receive confirmation once we process the registration internally (usually within a few business days). \n  \n** NOTE 2 – When paying please do so with the postal code of the billing address of the card or else the payment will be declined and a hold for the full amount may be put on your card. You will be able to enter your home address when you fill out the form (second part of the registration process). \n  \n** NOTE 3 – There is a separate “pre-marriage review” session which takes place after the end of the course. If you haven’t heard from us by the time your course ends or there is a quick turnaround time between the end of your course and your wedding\, please get in touch with us to schedule it. Once this session is complete you will receive your certificate. \n  \n** NOTE 4 – If you know/think you will be missing a session in the group you are considering\, kindly choose another course. Our resources for make-up classes are very limited and we may not be able to handle all requests. If you end up having to miss a class\, you may have to switch to a later group. \n  \n** NOTE 5 – We usually send the Zoom link out just before the start of the month in which your class begins. Since we send these out to multiple couples at once\, they sometimes go to your spam/junk mail folder. Please check there if you haven’t received the Zoom link. \n  \nNumber of Sessions: 4 \n  \nDay(s) of Week: Saturdays
URL:https://www.cfstoronto.com/event/marriage-preparation-course-for-couples-group-7063/
LOCATION:Online Via Zoom
CATEGORIES:Marriage Preparation for Couples
ORGANIZER;CN="Catholic Family Services of Toronto":MAILTO:info@cfstoronto.com
END:VEVENT
BEGIN:VEVENT
DTSTART;TZID=America/New_York:20230718T140000
DTEND;TZID=America/New_York:20230718T160000
DTSTAMP:20260421T125457
CREATED:20230705T000315Z
LAST-MODIFIED:20230712T202030Z
UID:11579-1689688800-1689696000@www.cfstoronto.com
SUMMARY:In-Person Meet & Greet
DESCRIPTION:Topic: information about counselling services and wellness groups \nRegister at: https://mg0723.eventbrite.ca
URL:https://www.cfstoronto.com/event/in-person-meet-greet/
CATEGORIES:Meet & Greet,New Beginnings
ATTACH;FMTTYPE=application/pdf:https://www.cfstoronto.com/wp-content/uploads/2023/07/In-Person-Meet-Greet-July-2023.pdf
END:VEVENT
BEGIN:VEVENT
DTSTART;TZID=America/New_York:20230726T140000
DTEND;TZID=America/New_York:20230726T160000
DTSTAMP:20260421T125457
CREATED:20230704T225255Z
LAST-MODIFIED:20230712T202201Z
UID:11572-1690380000-1690387200@www.cfstoronto.com
SUMMARY:Online Drop-In Bereavement Support Session
DESCRIPTION:Topic: Summer Grief: Escape or Encounter? \nRegister at: https://nbbd07.eventbrite.ca \n 
URL:https://www.cfstoronto.com/event/online-drop-in-bereavement-support-session-2/
LOCATION:Online Via Zoom
CATEGORIES:Bereavement Support Group,New Beginnings
ATTACH;FMTTYPE=application/pdf:https://www.cfstoronto.com/wp-content/uploads/2023/07/Drop-In-Bereavement-Support-Session-July2023.pdf
ORGANIZER;CN="Catholic Family Services of Toronto":MAILTO:info@cfstoronto.com
END:VEVENT
BEGIN:VEVENT
DTSTART;TZID=America/New_York:20230727T140000
DTEND;TZID=America/New_York:20230727T160000
DTSTAMP:20260421T125457
CREATED:20230704T225543Z
LAST-MODIFIED:20230712T202310Z
UID:11574-1690466400-1690473600@www.cfstoronto.com
SUMMARY:In-Person Drop-In Separated/Divorced Support Session
DESCRIPTION:Topic: Summer Grief: Escape or Encounter? \nRegister at: https://nbsdd07.eventbrite.ca
URL:https://www.cfstoronto.com/event/in-person-drop-in-separated-divorced-support-session-2/
CATEGORIES:New Beginnings,Separated and Divorced Support Group
ATTACH;FMTTYPE=application/pdf:https://www.cfstoronto.com/wp-content/uploads/2023/07/Drop-In-Separated-Divorced-Support-Session-July2023.pdf
END:VEVENT
END:VCALENDAR