BEGIN:VCALENDAR
VERSION:2.0
PRODID:-//Catholic Family Services of Toronto - ECPv6.15.20//NONSGML v1.0//EN
CALSCALE:GREGORIAN
METHOD:PUBLISH
X-WR-CALNAME:Catholic Family Services of Toronto
X-ORIGINAL-URL:https://www.cfstoronto.com
X-WR-CALDESC:Events for Catholic Family Services of Toronto
REFRESH-INTERVAL;VALUE=DURATION:PT1H
X-Robots-Tag:noindex
X-PUBLISHED-TTL:PT1H
BEGIN:VTIMEZONE
TZID:America/New_York
BEGIN:DAYLIGHT
TZOFFSETFROM:-0500
TZOFFSETTO:-0400
TZNAME:EDT
DTSTART:20220313T070000
END:DAYLIGHT
BEGIN:STANDARD
TZOFFSETFROM:-0400
TZOFFSETTO:-0500
TZNAME:EST
DTSTART:20221106T060000
END:STANDARD
BEGIN:DAYLIGHT
TZOFFSETFROM:-0500
TZOFFSETTO:-0400
TZNAME:EDT
DTSTART:20230312T070000
END:DAYLIGHT
BEGIN:STANDARD
TZOFFSETFROM:-0400
TZOFFSETTO:-0500
TZNAME:EST
DTSTART:20231105T060000
END:STANDARD
BEGIN:DAYLIGHT
TZOFFSETFROM:-0500
TZOFFSETTO:-0400
TZNAME:EDT
DTSTART:20240310T070000
END:DAYLIGHT
BEGIN:STANDARD
TZOFFSETFROM:-0400
TZOFFSETTO:-0500
TZNAME:EST
DTSTART:20241103T060000
END:STANDARD
END:VTIMEZONE
BEGIN:VEVENT
DTSTART;TZID=America/New_York:20230601T130000
DTEND;TZID=America/New_York:20230601T150000
DTSTAMP:20260421T112957
CREATED:20221126T121352Z
LAST-MODIFIED:20230510T233755Z
UID:6452-1685624400-1685631600@www.cfstoronto.com
SUMMARY:Self-Confident Woman Group
DESCRIPTION:Subsidies are available \nA group for women interested in building on their confidence.
URL:https://www.cfstoronto.com/event/self-confident-woman-group-3/
LOCATION:Online Via Zoom
CATEGORIES:Self-Confident Woman,Wellness Counselling
ORGANIZER;CN="Catholic Family Services of Toronto":MAILTO:info@cfstoronto.com
END:VEVENT
BEGIN:VEVENT
DTSTART;TZID=America/New_York:20230614T140000
DTEND;TZID=America/New_York:20230614T160000
DTSTAMP:20260421T112957
CREATED:20230518T213857Z
LAST-MODIFIED:20230518T213857Z
UID:10595-1686751200-1686758400@www.cfstoronto.com
SUMMARY:Online Bereavement Introductory Program
DESCRIPTION:Topic: exploring grief\, experiencing healing and renewing faith. \nRegister at: https://nbb0623.eventbrite.ca \n 
URL:https://www.cfstoronto.com/event/online-bereavement-introductory-program-3/
LOCATION:Online Via Zoom
CATEGORIES:Bereavement Support Group,New Beginnings
END:VEVENT
BEGIN:VEVENT
DTSTART;TZID=America/New_York:20230614T140000
DTEND;TZID=America/New_York:20230614T160000
DTSTAMP:20260421T112957
CREATED:20230531T161633Z
LAST-MODIFIED:20230531T162811Z
UID:10832-1686751200-1686758400@www.cfstoronto.com
SUMMARY:Catholic by Choice Seminar
DESCRIPTION:Topic: Exploring the “both/and” of Catholicism \nRegister at: https://cbc0623.eventbrite.ca
URL:https://www.cfstoronto.com/event/catholic-by-choice-seminar/
LOCATION:Saint Mark’s Roman Catholic Church 345 Glad Park Avenue Whitchurch-Stouffville\, ON L4A 1E4 Canada\, 345 Glad Park Avenue Whitchurch\, Stouffville\, Ontario\, L4A 1E4\, Canada
CATEGORIES:Catholic By Choice,New Beginnings
ORGANIZER;CN="Catholic Family Services of Toronto":MAILTO:info@cfstoronto.com
END:VEVENT
BEGIN:VEVENT
DTSTART;TZID=America/New_York:20230615T140000
DTEND;TZID=America/New_York:20230615T160000
DTSTAMP:20260421T112957
CREATED:20230518T214038Z
LAST-MODIFIED:20230518T214038Z
UID:10597-1686837600-1686844800@www.cfstoronto.com
SUMMARY:Online Separated/Divorced Introductory Program
DESCRIPTION:Topic: exploring grief\, experiencing healing and renewing faith. \nRegister at: https://nbsd0623.eventbrite.ca \n 
URL:https://www.cfstoronto.com/event/online-separated-divorced-introductory-program-3/
LOCATION:Online Via Zoom
CATEGORIES:Separated and Divorced Support Group
END:VEVENT
END:VCALENDAR