BEGIN:VCALENDAR
VERSION:2.0
PRODID:-//Catholic Family Services of Toronto - ECPv6.15.20//NONSGML v1.0//EN
CALSCALE:GREGORIAN
METHOD:PUBLISH
X-ORIGINAL-URL:https://www.cfstoronto.com
X-WR-CALDESC:Events for Catholic Family Services of Toronto
REFRESH-INTERVAL;VALUE=DURATION:PT1H
X-Robots-Tag:noindex
X-PUBLISHED-TTL:PT1H
BEGIN:VTIMEZONE
TZID:America/New_York
BEGIN:DAYLIGHT
TZOFFSETFROM:-0500
TZOFFSETTO:-0400
TZNAME:EDT
DTSTART:20220313T070000
END:DAYLIGHT
BEGIN:STANDARD
TZOFFSETFROM:-0400
TZOFFSETTO:-0500
TZNAME:EST
DTSTART:20221106T060000
END:STANDARD
BEGIN:DAYLIGHT
TZOFFSETFROM:-0500
TZOFFSETTO:-0400
TZNAME:EDT
DTSTART:20230312T070000
END:DAYLIGHT
BEGIN:STANDARD
TZOFFSETFROM:-0400
TZOFFSETTO:-0500
TZNAME:EST
DTSTART:20231105T060000
END:STANDARD
BEGIN:DAYLIGHT
TZOFFSETFROM:-0500
TZOFFSETTO:-0400
TZNAME:EDT
DTSTART:20240310T070000
END:DAYLIGHT
BEGIN:STANDARD
TZOFFSETFROM:-0400
TZOFFSETTO:-0500
TZNAME:EST
DTSTART:20241103T060000
END:STANDARD
END:VTIMEZONE
BEGIN:VEVENT
DTSTART;TZID=America/New_York:20230104T140000
DTEND;TZID=America/New_York:20230104T160000
DTSTAMP:20260421T100639
CREATED:20221005T112253Z
LAST-MODIFIED:20230331T114045Z
UID:5488-1672840800-1672848000@www.cfstoronto.com
SUMMARY:Marriage Preparation Course for Couples Group #7028
DESCRIPTION:Marriage preparation is a six session course that prepares couples for the Sacrament of Marriage. \nPlease complete the registration and payment to guarantee your place in the group.
URL:https://www.cfstoronto.com/event/marriage-preparation-course-for-couples-group-7028/
LOCATION:Online Via Zoom
CATEGORIES:Marriage Preparation for Couples
ORGANIZER;CN="Catholic Family Services of Toronto":MAILTO:info@cfstoronto.com
END:VEVENT
BEGIN:VEVENT
DTSTART;TZID=America/New_York:20230105T120000
DTEND;TZID=America/New_York:20230105T130000
DTSTAMP:20260421T100639
CREATED:20221126T162617Z
LAST-MODIFIED:20230331T114503Z
UID:6492-1672920000-1672923600@www.cfstoronto.com
SUMMARY:Young School Age Group (YSAG-Gr. # 7110) ages 5-7
DESCRIPTION:Subsidies are available
URL:https://www.cfstoronto.com/event/young-school-age-group-ysag-gr-7110-ages-5-7/
LOCATION:Online Via Zoom
CATEGORIES:Because Kids are Worth It!
ORGANIZER;CN="Catholic Family Services of Toronto":MAILTO:info@cfstoronto.com
END:VEVENT
BEGIN:VEVENT
DTSTART;TZID=America/New_York:20230105T130000
DTEND;TZID=America/New_York:20230105T140000
DTSTAMP:20260421T100639
CREATED:20221126T162908Z
LAST-MODIFIED:20230331T114453Z
UID:6493-1672923600-1672927200@www.cfstoronto.com
SUMMARY:Older School Age Group (OSAG-Gr. # 7111)\, ages 8-10
DESCRIPTION:Subsidies are available
URL:https://www.cfstoronto.com/event/older-school-age-group-osag-gr-7111-ages-8-10/
LOCATION:Online Via Zoom
CATEGORIES:Because Kids are Worth It!
ORGANIZER;CN="Catholic Family Services of Toronto":MAILTO:info@cfstoronto.com
END:VEVENT
BEGIN:VEVENT
DTSTART;TZID=America/New_York:20230105T140000
DTEND;TZID=America/New_York:20230105T160000
DTSTAMP:20260421T100639
CREATED:20221005T114858Z
LAST-MODIFIED:20230331T114033Z
UID:5495-1672927200-1672934400@www.cfstoronto.com
SUMMARY:Marriage Preparation Course for Couples Group #7029
DESCRIPTION:Marriage preparation is a six session course that prepares couples for the Sacrament of Marriage. \nPlease complete the registration and payment to guarantee your place in the group.
URL:https://www.cfstoronto.com/event/marriage-preparation-course-for-couples-group-7029/
LOCATION:Online Via Zoom
CATEGORIES:Marriage Preparation for Couples
ORGANIZER;CN="Catholic Family Services of Toronto":MAILTO:info@cfstoronto.com
END:VEVENT
BEGIN:VEVENT
DTSTART;TZID=America/New_York:20230107T050000
DTEND;TZID=America/New_York:20230107T080000
DTSTAMP:20260421T100639
CREATED:20221005T115320Z
LAST-MODIFIED:20230331T114019Z
UID:5499-1673067600-1673078400@www.cfstoronto.com
SUMMARY:Marriage Preparation Course for Couples Group #7030
DESCRIPTION:Marriage preparation is a four session course that prepares couples for the Sacrament of Marriage. \nPlease complete the registration and payment to guarantee your place in the group.
URL:https://www.cfstoronto.com/event/marriage-preparation-course-for-couples-group-7030/
LOCATION:Online Via Zoom
CATEGORIES:Marriage Preparation for Couples
ORGANIZER;CN="Catholic Family Services of Toronto":MAILTO:info@cfstoronto.com
END:VEVENT
BEGIN:VEVENT
DTSTART;TZID=America/New_York:20230110T120000
DTEND;TZID=America/New_York:20230110T130000
DTSTAMP:20260421T100639
CREATED:20221126T143811Z
LAST-MODIFIED:20230331T114443Z
UID:6473-1673352000-1673355600@www.cfstoronto.com
SUMMARY:PreTeen School Age Group (PTSAG- Gr. # 7112)\, ages 11-13
DESCRIPTION:Subsidies are available
URL:https://www.cfstoronto.com/event/preteen-school-age-group-ptsag-gr-7112-ages-11-13/
LOCATION:Online Via Zoom
CATEGORIES:Because Kids are Worth It!
ORGANIZER;CN="Catholic Family Services of Toronto":MAILTO:info@cfstoronto.com
END:VEVENT
BEGIN:VEVENT
DTSTART;TZID=America/New_York:20230114T050000
DTEND;TZID=America/New_York:20230114T080000
DTSTAMP:20260421T100639
CREATED:20221005T120115Z
LAST-MODIFIED:20230331T114007Z
UID:5502-1673672400-1673683200@www.cfstoronto.com
SUMMARY:Marriage Preparation Course for Couples Group #7031
DESCRIPTION:Marriage preparation is a four session course that prepares couples for the Sacrament of Marriage. \nPlease complete the registration and payment to guarantee your place in the group.
URL:https://www.cfstoronto.com/event/marriage-preparation-course-for-couples-group-7031/
LOCATION:Online Via Zoom
CATEGORIES:Marriage Preparation for Couples
ORGANIZER;CN="Catholic Family Services of Toronto":MAILTO:info@cfstoronto.com
END:VEVENT
BEGIN:VEVENT
DTSTART;TZID=America/New_York:20230114T050000
DTEND;TZID=America/New_York:20230114T080000
DTSTAMP:20260421T100639
CREATED:20221005T121122Z
LAST-MODIFIED:20230331T113958Z
UID:5501-1673672400-1673683200@www.cfstoronto.com
SUMMARY:Marriage Preparation Course for Couples Group #7032
DESCRIPTION:Marriage preparation is a four session course that prepares couples for the Sacrament of Marriage. \nPlease complete the registration and payment to guarantee your place in the group.
URL:https://www.cfstoronto.com/event/marriage-preparation-course-for-couples-group-7032/
LOCATION:Online Via Zoom
CATEGORIES:Marriage Preparation for Couples
ORGANIZER;CN="Catholic Family Services of Toronto":MAILTO:info@cfstoronto.com
END:VEVENT
BEGIN:VEVENT
DTSTART;TZID=America/New_York:20230116T134500
DTEND;TZID=America/New_York:20230116T150000
DTSTAMP:20260421T100639
CREATED:20221119T114151Z
LAST-MODIFIED:20230331T114203Z
UID:5935-1673876700-1673881200@www.cfstoronto.com
SUMMARY:Here to Help
DESCRIPTION:These groups are for women and their children who have been exposed to intimate partner abuse. \n  \nContact Us
URL:https://www.cfstoronto.com/event/here-to-help/
LOCATION:Online Via Zoom
CATEGORIES:Here to Help
ORGANIZER;CN="Catholic Family Services of Toronto":MAILTO:info@cfstoronto.com
END:VEVENT
BEGIN:VEVENT
DTSTART;TZID=America/New_York:20230117T140000
DTEND;TZID=America/New_York:20230117T160000
DTSTAMP:20260421T100639
CREATED:20221028T155844Z
LAST-MODIFIED:20230331T114135Z
UID:5677-1673964000-1673971200@www.cfstoronto.com
SUMMARY:Re-Marriage Preparation Course Group #7083
DESCRIPTION:Re-marriage preparation is a five session course that prepares couples for the Sacrament of Marriage. \nPlease complete the registration and payment to guarantee your place in the group.
URL:https://www.cfstoronto.com/event/re-marriage-preparation-course-group-7083/
LOCATION:Online Via Zoom
CATEGORIES:Re-Marriage Preparation
ORGANIZER;CN="Catholic Family Services of Toronto":MAILTO:info@cfstoronto.com
END:VEVENT
BEGIN:VEVENT
DTSTART;TZID=America/New_York:20230121T050000
DTEND;TZID=America/New_York:20230121T080000
DTSTAMP:20260421T100639
CREATED:20221005T121418Z
LAST-MODIFIED:20230331T113950Z
UID:5500-1674277200-1674288000@www.cfstoronto.com
SUMMARY:Marriage Preparation Course for Couples Group #7033
DESCRIPTION:Marriage preparation is a four session course that prepares couples for the Sacrament of Marriage. \nPlease complete the registration and payment to guarantee your place in the group.
URL:https://www.cfstoronto.com/event/marriage-preparation-course-for-couples-group-7033/
LOCATION:Online Via Zoom
CATEGORIES:Marriage Preparation for Couples
ORGANIZER;CN="Catholic Family Services of Toronto":MAILTO:info@cfstoronto.com
END:VEVENT
BEGIN:VEVENT
DTSTART;TZID=America/New_York:20230124T080000
DTEND;TZID=America/New_York:20230124T100000
DTSTAMP:20260421T100639
CREATED:20221206T101914Z
LAST-MODIFIED:20230331T113824Z
UID:6778-1674547200-1674554400@www.cfstoronto.com
SUMMARY:Managing Emotions Thoughtfully
DESCRIPTION:Subsidies are available \nA group for women who want to learn new strategies to respond to their emotions after trauma. \n  \nContact Us
URL:https://www.cfstoronto.com/event/managing-emotions-thoughtfully/
LOCATION:Online Via Zoom
CATEGORIES:Navigating Emotions Thoughtfully
ORGANIZER;CN="Catholic Family Services of Toronto":MAILTO:info@cfstoronto.com
END:VEVENT
BEGIN:VEVENT
DTSTART;TZID=America/New_York:20230126T050000
DTEND;TZID=America/New_York:20230126T183000
DTSTAMP:20260421T100639
CREATED:20221206T094520Z
LAST-MODIFIED:20230331T113803Z
UID:6707-1674709200-1674757800@www.cfstoronto.com
SUMMARY:RISE
DESCRIPTION:A drop-in group that provides support\, resources\, and information to women who are dealing with the impact of abuse in their partner relationships. \n  \nContact Us
URL:https://www.cfstoronto.com/event/rise/
LOCATION:Online Via Zoom
CATEGORIES:RISE
ORGANIZER;CN="Catholic Family Services of Toronto":MAILTO:info@cfstoronto.com
END:VEVENT
BEGIN:VEVENT
DTSTART;TZID=America/New_York:20230131T050000
DTEND;TZID=America/New_York:20230131T070000
DTSTAMP:20260421T100639
CREATED:20221122T140024Z
LAST-MODIFIED:20230331T113115Z
UID:6142-1675141200-1675148400@www.cfstoronto.com
SUMMARY:Understanding Abuse
DESCRIPTION:Subsidies are available \nAn 8 to 10 week closed group for women who have experienced abuse in their intimate partner relationship. \n  \nContact Us
URL:https://www.cfstoronto.com/event/understanding-abuse-4/
LOCATION:Online Via Zoom
CATEGORIES:Understanding Abuse
ORGANIZER;CN="Catholic Family Services of Toronto":MAILTO:info@cfstoronto.com
END:VEVENT
END:VCALENDAR