BEGIN:VCALENDAR
VERSION:2.0
PRODID:-//Catholic Family Services of Toronto - ECPv6.15.20//NONSGML v1.0//EN
CALSCALE:GREGORIAN
METHOD:PUBLISH
X-ORIGINAL-URL:https://www.cfstoronto.com
X-WR-CALDESC:Events for Catholic Family Services of Toronto
REFRESH-INTERVAL;VALUE=DURATION:PT1H
X-Robots-Tag:noindex
X-PUBLISHED-TTL:PT1H
BEGIN:VTIMEZONE
TZID:America/New_York
BEGIN:DAYLIGHT
TZOFFSETFROM:-0500
TZOFFSETTO:-0400
TZNAME:EDT
DTSTART:20210314T070000
END:DAYLIGHT
BEGIN:STANDARD
TZOFFSETFROM:-0400
TZOFFSETTO:-0500
TZNAME:EST
DTSTART:20211107T060000
END:STANDARD
BEGIN:DAYLIGHT
TZOFFSETFROM:-0500
TZOFFSETTO:-0400
TZNAME:EDT
DTSTART:20220313T070000
END:DAYLIGHT
BEGIN:STANDARD
TZOFFSETFROM:-0400
TZOFFSETTO:-0500
TZNAME:EST
DTSTART:20221106T060000
END:STANDARD
BEGIN:DAYLIGHT
TZOFFSETFROM:-0500
TZOFFSETTO:-0400
TZNAME:EDT
DTSTART:20230312T070000
END:DAYLIGHT
BEGIN:STANDARD
TZOFFSETFROM:-0400
TZOFFSETTO:-0500
TZNAME:EST
DTSTART:20231105T060000
END:STANDARD
END:VTIMEZONE
BEGIN:VEVENT
DTSTART;TZID=America/New_York:20221228T140000
DTEND;TZID=America/New_York:20221228T160000
DTSTAMP:20260421T113044
CREATED:20220707T102355Z
LAST-MODIFIED:20230331T114415Z
UID:3325-1672236000-1672243200@www.cfstoronto.com
SUMMARY:Drop-In Bereavement Support Session
DESCRIPTION:
URL:https://www.cfstoronto.com/event/drop-in-bereavement-support-session-4/
LOCATION:Online Via Zoom
CATEGORIES:Bereavement Support Group,New Beginnings
ORGANIZER;CN="Catholic Family Services of Toronto":MAILTO:info@cfstoronto.com
END:VEVENT
BEGIN:VEVENT
DTSTART;TZID=America/New_York:20221229T140000
DTEND;TZID=America/New_York:20221229T160000
DTSTAMP:20260421T113044
CREATED:20220707T103014Z
LAST-MODIFIED:20230331T114311Z
UID:3333-1672322400-1672329600@www.cfstoronto.com
SUMMARY:Drop-In Separation/Divorced Support Session
DESCRIPTION:
URL:https://www.cfstoronto.com/event/drop-in-separation-divorced-support-session-4/
LOCATION:Online Via Zoom
CATEGORIES:New Beginnings,Separated and Divorced Support Group
ORGANIZER;CN="Catholic Family Services of Toronto":MAILTO:info@cfstoronto.com
END:VEVENT
END:VCALENDAR