BEGIN:VCALENDAR
VERSION:2.0
PRODID:-//Catholic Family Services of Toronto - ECPv6.15.20//NONSGML v1.0//EN
CALSCALE:GREGORIAN
METHOD:PUBLISH
X-WR-CALNAME:Catholic Family Services of Toronto
X-ORIGINAL-URL:https://www.cfstoronto.com
X-WR-CALDESC:Events for Catholic Family Services of Toronto
REFRESH-INTERVAL;VALUE=DURATION:PT1H
X-Robots-Tag:noindex
X-PUBLISHED-TTL:PT1H
BEGIN:VTIMEZONE
TZID:America/New_York
BEGIN:DAYLIGHT
TZOFFSETFROM:-0500
TZOFFSETTO:-0400
TZNAME:EDT
DTSTART:20210314T070000
END:DAYLIGHT
BEGIN:STANDARD
TZOFFSETFROM:-0400
TZOFFSETTO:-0500
TZNAME:EST
DTSTART:20211107T060000
END:STANDARD
BEGIN:DAYLIGHT
TZOFFSETFROM:-0500
TZOFFSETTO:-0400
TZNAME:EDT
DTSTART:20220313T070000
END:DAYLIGHT
BEGIN:STANDARD
TZOFFSETFROM:-0400
TZOFFSETTO:-0500
TZNAME:EST
DTSTART:20221106T060000
END:STANDARD
BEGIN:DAYLIGHT
TZOFFSETFROM:-0500
TZOFFSETTO:-0400
TZNAME:EDT
DTSTART:20230312T070000
END:DAYLIGHT
BEGIN:STANDARD
TZOFFSETFROM:-0400
TZOFFSETTO:-0500
TZNAME:EST
DTSTART:20231105T060000
END:STANDARD
END:VTIMEZONE
BEGIN:VEVENT
DTSTART;TZID=America/New_York:20220901T140000
DTEND;TZID=America/New_York:20220901T160000
DTSTAMP:20260421T152937
CREATED:20220704T142146Z
LAST-MODIFIED:20230330T184405Z
UID:2776-1662040800-1662048000@www.cfstoronto.com
SUMMARY:Marriage Preparation Course for Couples Group #6890
DESCRIPTION:Marriage preparation is a six session course that prepares couples for the Sacrament of Marriage. \nPlease complete the registration and payment to guarantee your place in the group.
URL:https://www.cfstoronto.com/event/marriage-preparation-course-for-couples-group-6890/
LOCATION:Online Via Zoom
CATEGORIES:Marriage Preparation for Couples
ORGANIZER;CN="Catholic Family Services of Toronto":MAILTO:info@cfstoronto.com
END:VEVENT
BEGIN:VEVENT
DTSTART;TZID=America/New_York:20220910T050000
DTEND;TZID=America/New_York:20220910T083000
DTSTAMP:20260421T152937
CREATED:20220704T142332Z
LAST-MODIFIED:20230330T184412Z
UID:2799-1662786000-1662798600@www.cfstoronto.com
SUMMARY:Marriage Preparation Course for Couples Group #6891
DESCRIPTION:Marriage preparation is a three session course that prepares couples for the Sacrament of Marriage. \nPlease complete the registration and payment to guarantee your place in the group.
URL:https://www.cfstoronto.com/event/marriage-preparation-course-for-couples-group-6891/
LOCATION:Online Via Zoom
CATEGORIES:Marriage Preparation for Couples
ORGANIZER;CN="Catholic Family Services of Toronto":MAILTO:info@cfstoronto.com
END:VEVENT
BEGIN:VEVENT
DTSTART;TZID=America/New_York:20220910T050000
DTEND;TZID=America/New_York:20220910T083000
DTSTAMP:20260421T152937
CREATED:20220704T142458Z
LAST-MODIFIED:20230330T184419Z
UID:2797-1662786000-1662798600@www.cfstoronto.com
SUMMARY:Marriage Preparation Course for Couples Group #6892
DESCRIPTION:Marriage preparation is a three session course that prepares couples for the Sacrament of Marriage. \nPlease complete the registration and payment to guarantee your place in the group.
URL:https://www.cfstoronto.com/event/marriage-preparation-course-for-couples-group-6892/
LOCATION:Online Via Zoom
CATEGORIES:Marriage Preparation for Couples
ORGANIZER;CN="Catholic Family Services of Toronto":MAILTO:info@cfstoronto.com
END:VEVENT
BEGIN:VEVENT
DTSTART;TZID=America/New_York:20220912T140000
DTEND;TZID=America/New_York:20220912T160000
DTSTAMP:20260421T152937
CREATED:20220707T105612Z
LAST-MODIFIED:20230318T160055Z
UID:3362-1662991200-1662998400@www.cfstoronto.com
SUMMARY:Love after Loss for Catholics
DESCRIPTION:
URL:https://www.cfstoronto.com/event/love-after-loss-for-catholics/
LOCATION:Online Via Zoom
CATEGORIES:New Beginnings
ORGANIZER;CN="Catholic Family Services of Toronto":MAILTO:info@cfstoronto.com
END:VEVENT
BEGIN:VEVENT
DTSTART;TZID=America/New_York:20220914T140000
DTEND;TZID=America/New_York:20220914T160000
DTSTAMP:20260421T152937
CREATED:20220704T142618Z
LAST-MODIFIED:20230330T184426Z
UID:2798-1663164000-1663171200@www.cfstoronto.com
SUMMARY:Marriage Preparation Course for Couples Group #6893
DESCRIPTION:Marriage preparation is a six session course that prepares couples for the Sacrament of Marriage. \nPlease complete the registration and payment to guarantee your place in the group.
URL:https://www.cfstoronto.com/event/marriage-preparation-course-for-couples-group-6893/
LOCATION:Online Via Zoom
CATEGORIES:Marriage Preparation for Couples
ORGANIZER;CN="Catholic Family Services of Toronto":MAILTO:info@cfstoronto.com
END:VEVENT
BEGIN:VEVENT
DTSTART;TZID=America/New_York:20220917T050000
DTEND;TZID=America/New_York:20220917T173000
DTSTAMP:20260421T152937
CREATED:20220704T142759Z
LAST-MODIFIED:20230330T184433Z
UID:2796-1663390800-1663435800@www.cfstoronto.com
SUMMARY:Marriage Preparation Course for Couples Group #6894
DESCRIPTION:Marriage preparation is a three session course that prepares couples for the Sacrament of Marriage. \nPlease complete the registration and payment to guarantee your place in the group.
URL:https://www.cfstoronto.com/event/marriage-preparation-course-for-couples-group-6894/
LOCATION:Online Via Zoom
CATEGORIES:Marriage Preparation for Couples
ORGANIZER;CN="Catholic Family Services of Toronto":MAILTO:info@cfstoronto.com
END:VEVENT
BEGIN:VEVENT
DTSTART;TZID=America/New_York:20220922T133000
DTEND;TZID=America/New_York:20220922T153000
DTSTAMP:20260421T152937
CREATED:20220706T110848Z
LAST-MODIFIED:20230330T185303Z
UID:3158-1663853400-1663860600@www.cfstoronto.com
SUMMARY:Self-Confident Woman Group
DESCRIPTION:Subsidies are available \nA group for women interested in building on their confidence.
URL:https://www.cfstoronto.com/event/self-confident-woman-group/
LOCATION:Online Via Zoom
CATEGORIES:Self-Confident Woman,Wellness Counselling
ORGANIZER;CN="Catholic Family Services of Toronto":MAILTO:info@cfstoronto.com
END:VEVENT
BEGIN:VEVENT
DTSTART;TZID=America/New_York:20220926T080000
DTEND;TZID=America/New_York:20220926T100000
DTSTAMP:20260421T152937
CREATED:20220706T115511Z
LAST-MODIFIED:20230330T185809Z
UID:3210-1664179200-1664186400@www.cfstoronto.com
SUMMARY:Demystifying Anger Group
DESCRIPTION:Subsidies are available \nA group where women will be given the opportunity to learn to deal with their anger in a positive\, healthy fashion.
URL:https://www.cfstoronto.com/event/demystifying-anger-group/
LOCATION:Online Via Zoom
CATEGORIES:Demystifying Anger,Wellness Counselling
ORGANIZER;CN="Catholic Family Services of Toronto":MAILTO:info@cfstoronto.com
END:VEVENT
BEGIN:VEVENT
DTSTART;TZID=America/New_York:20220928T140000
DTEND;TZID=America/New_York:20220928T160000
DTSTAMP:20260421T152937
CREATED:20220707T102025Z
LAST-MODIFIED:20230331T105423Z
UID:3318-1664373600-1664380800@www.cfstoronto.com
SUMMARY:Drop-In Bereavement Support Session
DESCRIPTION:
URL:https://www.cfstoronto.com/event/drop-in-bereavement-support-session-2/
LOCATION:Online Via Zoom
CATEGORIES:Bereavement Support Group,New Beginnings
ORGANIZER;CN="Catholic Family Services of Toronto":MAILTO:info@cfstoronto.com
END:VEVENT
BEGIN:VEVENT
DTSTART;TZID=America/New_York:20220929T140000
DTEND;TZID=America/New_York:20220929T160000
DTSTAMP:20260421T152937
CREATED:20220707T102826Z
LAST-MODIFIED:20230331T105334Z
UID:3330-1664460000-1664467200@www.cfstoronto.com
SUMMARY:Drop-In Separation/Divorced Support Session
DESCRIPTION:
URL:https://www.cfstoronto.com/event/drop-in-separation-divorced-support-session-2/
LOCATION:Online Via Zoom
CATEGORIES:New Beginnings,Separated and Divorced Support Group
ORGANIZER;CN="Catholic Family Services of Toronto":MAILTO:info@cfstoronto.com
END:VEVENT
END:VCALENDAR