BEGIN:VCALENDAR
VERSION:2.0
PRODID:-//Catholic Family Services of Toronto - ECPv6.15.20//NONSGML v1.0//EN
CALSCALE:GREGORIAN
METHOD:PUBLISH
X-WR-CALNAME:Catholic Family Services of Toronto
X-ORIGINAL-URL:https://www.cfstoronto.com
X-WR-CALDESC:Events for Catholic Family Services of Toronto
REFRESH-INTERVAL;VALUE=DURATION:PT1H
X-Robots-Tag:noindex
X-PUBLISHED-TTL:PT1H
BEGIN:VTIMEZONE
TZID:America/New_York
BEGIN:DAYLIGHT
TZOFFSETFROM:-0500
TZOFFSETTO:-0400
TZNAME:EDT
DTSTART:20220313T070000
END:DAYLIGHT
BEGIN:STANDARD
TZOFFSETFROM:-0400
TZOFFSETTO:-0500
TZNAME:EST
DTSTART:20221106T060000
END:STANDARD
BEGIN:DAYLIGHT
TZOFFSETFROM:-0500
TZOFFSETTO:-0400
TZNAME:EDT
DTSTART:20230312T070000
END:DAYLIGHT
BEGIN:STANDARD
TZOFFSETFROM:-0400
TZOFFSETTO:-0500
TZNAME:EST
DTSTART:20231105T060000
END:STANDARD
BEGIN:DAYLIGHT
TZOFFSETFROM:-0500
TZOFFSETTO:-0400
TZNAME:EDT
DTSTART:20240310T070000
END:DAYLIGHT
BEGIN:STANDARD
TZOFFSETFROM:-0400
TZOFFSETTO:-0500
TZNAME:EST
DTSTART:20241103T060000
END:STANDARD
END:VTIMEZONE
BEGIN:VEVENT
DTSTART;TZID=America/New_York:20230117T140000
DTEND;TZID=America/New_York:20230117T160000
DTSTAMP:20260421T205042
CREATED:20221028T155844Z
LAST-MODIFIED:20230331T114135Z
UID:5677-1673964000-1673971200@www.cfstoronto.com
SUMMARY:Re-Marriage Preparation Course Group #7083
DESCRIPTION:Re-marriage preparation is a five session course that prepares couples for the Sacrament of Marriage. \nPlease complete the registration and payment to guarantee your place in the group.
URL:https://www.cfstoronto.com/event/re-marriage-preparation-course-group-7083/
LOCATION:Online Via Zoom
CATEGORIES:Re-Marriage Preparation
ORGANIZER;CN="Catholic Family Services of Toronto":MAILTO:info@cfstoronto.com
END:VEVENT
BEGIN:VEVENT
DTSTART;TZID=America/New_York:20230121T050000
DTEND;TZID=America/New_York:20230121T080000
DTSTAMP:20260421T205042
CREATED:20221005T121418Z
LAST-MODIFIED:20230331T113950Z
UID:5500-1674277200-1674288000@www.cfstoronto.com
SUMMARY:Marriage Preparation Course for Couples Group #7033
DESCRIPTION:Marriage preparation is a four session course that prepares couples for the Sacrament of Marriage. \nPlease complete the registration and payment to guarantee your place in the group.
URL:https://www.cfstoronto.com/event/marriage-preparation-course-for-couples-group-7033/
LOCATION:Online Via Zoom
CATEGORIES:Marriage Preparation for Couples
ORGANIZER;CN="Catholic Family Services of Toronto":MAILTO:info@cfstoronto.com
END:VEVENT
BEGIN:VEVENT
DTSTART;TZID=America/New_York:20230124T080000
DTEND;TZID=America/New_York:20230124T100000
DTSTAMP:20260421T205042
CREATED:20221206T101914Z
LAST-MODIFIED:20230331T113824Z
UID:6778-1674547200-1674554400@www.cfstoronto.com
SUMMARY:Managing Emotions Thoughtfully
DESCRIPTION:Subsidies are available \nA group for women who want to learn new strategies to respond to their emotions after trauma. \n  \nContact Us
URL:https://www.cfstoronto.com/event/managing-emotions-thoughtfully/
LOCATION:Online Via Zoom
CATEGORIES:Navigating Emotions Thoughtfully
ORGANIZER;CN="Catholic Family Services of Toronto":MAILTO:info@cfstoronto.com
END:VEVENT
BEGIN:VEVENT
DTSTART;TZID=America/New_York:20230126T050000
DTEND;TZID=America/New_York:20230126T183000
DTSTAMP:20260421T205042
CREATED:20221206T094520Z
LAST-MODIFIED:20230331T113803Z
UID:6707-1674709200-1674757800@www.cfstoronto.com
SUMMARY:RISE
DESCRIPTION:A drop-in group that provides support\, resources\, and information to women who are dealing with the impact of abuse in their partner relationships. \n  \nContact Us
URL:https://www.cfstoronto.com/event/rise/
LOCATION:Online Via Zoom
CATEGORIES:RISE
ORGANIZER;CN="Catholic Family Services of Toronto":MAILTO:info@cfstoronto.com
END:VEVENT
BEGIN:VEVENT
DTSTART;TZID=America/New_York:20230131T050000
DTEND;TZID=America/New_York:20230131T070000
DTSTAMP:20260421T205042
CREATED:20221122T140024Z
LAST-MODIFIED:20230331T113115Z
UID:6142-1675141200-1675148400@www.cfstoronto.com
SUMMARY:Understanding Abuse
DESCRIPTION:Subsidies are available \nAn 8 to 10 week closed group for women who have experienced abuse in their intimate partner relationship. \n  \nContact Us
URL:https://www.cfstoronto.com/event/understanding-abuse-4/
LOCATION:Online Via Zoom
CATEGORIES:Understanding Abuse
ORGANIZER;CN="Catholic Family Services of Toronto":MAILTO:info@cfstoronto.com
END:VEVENT
BEGIN:VEVENT
DTSTART;TZID=America/New_York:20230202T140000
DTEND;TZID=America/New_York:20230202T160000
DTSTAMP:20260421T205042
CREATED:20221005T122132Z
LAST-MODIFIED:20230331T112819Z
UID:5517-1675346400-1675353600@www.cfstoronto.com
SUMMARY:Marriage Preparation Course for Couples Group #7034
DESCRIPTION:Marriage preparation is a six session course that prepares couples for the Sacrament of Marriage. \nPlease complete the registration and payment to guarantee your place in the group.
URL:https://www.cfstoronto.com/event/marriage-preparation-course-for-couples-group-7034/
LOCATION:Online Via Zoom
CATEGORIES:Marriage Preparation for Couples
ORGANIZER;CN="Catholic Family Services of Toronto":MAILTO:info@cfstoronto.com
END:VEVENT
BEGIN:VEVENT
DTSTART;TZID=America/New_York:20230204T050000
DTEND;TZID=America/New_York:20230204T080000
DTSTAMP:20260421T205042
CREATED:20221005T122214Z
LAST-MODIFIED:20230331T112758Z
UID:5516-1675486800-1675497600@www.cfstoronto.com
SUMMARY:Marriage Preparation Course for Couples Group #7035
DESCRIPTION:Marriage preparation is a four session course that prepares couples for the Sacrament of Marriage. \nPlease complete the registration and payment to guarantee your place in the group.
URL:https://www.cfstoronto.com/event/marriage-preparation-course-for-couples-group-7035/
LOCATION:Online Via Zoom
CATEGORIES:Marriage Preparation for Couples
ORGANIZER;CN="Catholic Family Services of Toronto":MAILTO:info@cfstoronto.com
END:VEVENT
BEGIN:VEVENT
DTSTART;TZID=America/New_York:20230207T130000
DTEND;TZID=America/New_York:20230207T150000
DTSTAMP:20260421T205042
CREATED:20230206T165523Z
LAST-MODIFIED:20230331T113015Z
UID:6999-1675774800-1675782000@www.cfstoronto.com
SUMMARY:Choosing to Change
DESCRIPTION:Subsidies are available \nChoosing To Change is a 10 week program for men\, who have used emotional\, verbal and/or physical abuse in their relationships with women\, and wish to change. The primary purpose of the program is to help men end their abusive behaviour.
URL:https://www.cfstoronto.com/event/choosing-to-change/
LOCATION:Online Via Zoom
CATEGORIES:Choosing to Change
ORGANIZER;CN="Catholic Family Services of Toronto":MAILTO:info@cfstoronto.com
END:VEVENT
BEGIN:VEVENT
DTSTART;TZID=America/New_York:20230207T140000
DTEND;TZID=America/New_York:20230207T160000
DTSTAMP:20260421T205042
CREATED:20221005T123219Z
LAST-MODIFIED:20230331T112641Z
UID:5515-1675778400-1675785600@www.cfstoronto.com
SUMMARY:Marriage Preparation Course for Couples Group #7036
DESCRIPTION:Marriage preparation is a six session course that prepares couples for the Sacrament of Marriage. \nPlease complete the registration and payment to guarantee your place in the group.
URL:https://www.cfstoronto.com/event/marriage-preparation-course-for-couples-group-7036/
LOCATION:Online Via Zoom
CATEGORIES:Marriage Preparation for Couples
ORGANIZER;CN="Catholic Family Services of Toronto":MAILTO:info@cfstoronto.com
END:VEVENT
BEGIN:VEVENT
DTSTART;TZID=America/New_York:20230209T133000
DTEND;TZID=America/New_York:20230209T153000
DTSTAMP:20260421T205042
CREATED:20230118T143629Z
LAST-MODIFIED:20230331T112943Z
UID:6821-1675949400-1675956600@www.cfstoronto.com
SUMMARY:Self-Confident Woman Group
DESCRIPTION:Subsidies are available \nA 7-week psycho-educational group designed for women who are interested in exploring their identity and becoming more aware of their strengths and resourcefulness. This group is meant to provide participants with skills and knowledge that will assist them in the process of reaching healthy levels of confidence. Screening interview required.
URL:https://www.cfstoronto.com/event/self-confident-woman-group-4/
LOCATION:Online Via Zoom
CATEGORIES:Self-Confident Woman,Wellness Counselling
ORGANIZER;CN="Catholic Family Services of Toronto":MAILTO:info@cfstoronto.com
END:VEVENT
BEGIN:VEVENT
DTSTART;TZID=America/New_York:20230209T140000
DTEND;TZID=America/New_York:20230209T160000
DTSTAMP:20260421T205042
CREATED:20221005T123328Z
LAST-MODIFIED:20230331T112556Z
UID:5514-1675951200-1675958400@www.cfstoronto.com
SUMMARY:Marriage Preparation Course for Couples Group #7037
DESCRIPTION:Marriage preparation is a six session course that prepares couples for the Sacrament of Marriage. \nPlease complete the registration and payment to guarantee your place in the group.
URL:https://www.cfstoronto.com/event/marriage-preparation-course-for-couples-group-7037/
LOCATION:Online Via Zoom
CATEGORIES:Marriage Preparation for Couples
ORGANIZER;CN="Catholic Family Services of Toronto":MAILTO:info@cfstoronto.com
END:VEVENT
BEGIN:VEVENT
DTSTART;TZID=America/New_York:20230209T140000
DTEND;TZID=America/New_York:20230209T160000
DTSTAMP:20260421T205042
CREATED:20230206T155950Z
LAST-MODIFIED:20230331T112501Z
UID:6995-1675951200-1675958400@www.cfstoronto.com
SUMMARY:Beating the Winter Blues Online Seminar
DESCRIPTION:A New Beginnings presentation for those who have suffered a loss through bereavement\, separation\, or divorce.
URL:https://www.cfstoronto.com/event/beating-the-winter-blues-online-seminar/
LOCATION:Online Via Zoom
CATEGORIES:New Beginnings,Separated and Divorced Support Group
ORGANIZER;CN="Catholic Family Services of Toronto":MAILTO:info@cfstoronto.com
END:VEVENT
BEGIN:VEVENT
DTSTART;TZID=America/New_York:20230211T050000
DTEND;TZID=America/New_York:20230211T080000
DTSTAMP:20260421T205042
CREATED:20221005T123508Z
LAST-MODIFIED:20230331T112721Z
UID:5513-1676091600-1676102400@www.cfstoronto.com
SUMMARY:Marriage Preparation Course for Couples Group #7038
DESCRIPTION:Marriage preparation is a four session course that prepares couples for the Sacrament of Marriage. \nPlease complete the registration and payment to guarantee your place in the group.
URL:https://www.cfstoronto.com/event/marriage-preparation-course-for-couples-group-7038/
LOCATION:Online Via Zoom
CATEGORIES:Marriage Preparation for Couples
ORGANIZER;CN="Catholic Family Services of Toronto":MAILTO:info@cfstoronto.com
END:VEVENT
BEGIN:VEVENT
DTSTART;TZID=America/New_York:20230215T140000
DTEND;TZID=America/New_York:20230215T160000
DTSTAMP:20260421T205042
CREATED:20230206T150739Z
LAST-MODIFIED:20230331T112353Z
UID:6986-1676469600-1676476800@www.cfstoronto.com
SUMMARY:Online Bereavement Introductory Program
DESCRIPTION:A New Beginnings presentation for those who have suffered the loss of a loved one.
URL:https://www.cfstoronto.com/event/online-bereavement-introductory-program/
LOCATION:Online Via Zoom
CATEGORIES:Bereavement Support Group,New Beginnings
ORGANIZER;CN="Catholic Family Services of Toronto":MAILTO:info@cfstoronto.com
END:VEVENT
BEGIN:VEVENT
DTSTART;TZID=America/New_York:20230216T140000
DTEND;TZID=America/New_York:20230216T160000
DTSTAMP:20260421T205042
CREATED:20230206T153418Z
LAST-MODIFIED:20230331T111624Z
UID:6991-1676556000-1676563200@www.cfstoronto.com
SUMMARY:Online Separated/Divorced Introductory Program
DESCRIPTION:A New Beginnings presentation for those who have suffered a loss through separation or divorce.
URL:https://www.cfstoronto.com/event/online-separated-divorced-introductory-program/
LOCATION:Online Via Zoom
CATEGORIES:New Beginnings,Separated and Divorced Support Group
ORGANIZER;CN="Catholic Family Services of Toronto":MAILTO:info@cfstoronto.com
END:VEVENT
BEGIN:VEVENT
DTSTART;TZID=America/New_York:20230227T140000
DTEND;TZID=America/New_York:20230227T160000
DTSTAMP:20260421T205042
CREATED:20230206T170645Z
LAST-MODIFIED:20230331T111831Z
UID:7023-1677506400-1677513600@www.cfstoronto.com
SUMMARY:Love after Loss
DESCRIPTION:Subsidies are available \nThe Love after Loss Wellness Program offers both women and men a learning environment which is safe\, welcoming and non-judgmental. This 6-week\, psycho-educational program\, explores the necessary elements of a healthy long term relationship.
URL:https://www.cfstoronto.com/event/love-after-loss-2/
LOCATION:Online Via Zoom
CATEGORIES:Love After Loss,Wellness Counselling
ORGANIZER;CN="Catholic Family Services of Toronto":MAILTO:info@cfstoronto.com
END:VEVENT
BEGIN:VEVENT
DTSTART;TZID=America/New_York:20230316T140000
DTEND;TZID=America/New_York:20230316T160000
DTSTAMP:20260421T205042
CREATED:20230310T130223Z
LAST-MODIFIED:20230331T111526Z
UID:8457-1678975200-1678982400@www.cfstoronto.com
SUMMARY:Annulments 101 Online Seminar
DESCRIPTION:Learn about the Catholic Marriage Tribunal\, the annulment process and the Declaration of Nullity.
URL:https://www.cfstoronto.com/event/annulments-101-online-seminar/
LOCATION:Online Via Zoom
CATEGORIES:New Beginnings
ORGANIZER;CN="Catholic Family Services of Toronto":MAILTO:info@cfstoronto.com
END:VEVENT
BEGIN:VEVENT
DTSTART;TZID=America/New_York:20230320T080000
DTEND;TZID=America/New_York:20230320T100000
DTSTAMP:20260421T205042
CREATED:20221119T122444Z
LAST-MODIFIED:20230331T111451Z
UID:5945-1679299200-1679306400@www.cfstoronto.com
SUMMARY:Demystifying Anger Group
DESCRIPTION:Subsidies are available \nA group where women will be given the opportunity to learn to deal with their anger in a positive\, healthy fashion.
URL:https://www.cfstoronto.com/event/demystifying-anger-group-2/
LOCATION:Online Via Zoom
CATEGORIES:Demystifying Anger,Wellness Counselling
ORGANIZER;CN="Catholic Family Services of Toronto":MAILTO:info@cfstoronto.com
END:VEVENT
BEGIN:VEVENT
DTSTART;TZID=America/New_York:20230329T140000
DTEND;TZID=America/New_York:20230329T160000
DTSTAMP:20260421T205042
CREATED:20230310T130921Z
LAST-MODIFIED:20230331T111239Z
UID:8459-1680098400-1680105600@www.cfstoronto.com
SUMMARY:Online Lenten Retreat
DESCRIPTION:What does it mean to be Catholic? For many\, Lent is the season of personal reflection and spiritual renewal. Explore a fundamental question\, “Why do YOU choose to be Catholic?”
URL:https://www.cfstoronto.com/event/online-lenten-retreat/
LOCATION:Online Via Zoom
CATEGORIES:New Beginnings
ORGANIZER;CN="Catholic Family Services of Toronto":MAILTO:info@cfstoronto.com
END:VEVENT
BEGIN:VEVENT
DTSTART;TZID=America/New_York:20230330T140000
DTEND;TZID=America/New_York:20230330T160000
DTSTAMP:20260421T205042
CREATED:20230310T131300Z
LAST-MODIFIED:20230331T111218Z
UID:8461-1680184800-1680192000@www.cfstoronto.com
SUMMARY:In-Person Grief Support Session
DESCRIPTION:Topic: Spring Grief: Opening up and Closing down
URL:https://www.cfstoronto.com/event/in-person-grief-support-session/
LOCATION:St. Peter’s R.C. Church\, 100 Bainbridge Ave.\, Woodbridge\, ON L4L 3Y1\, 100 Bainbridge Ave\, Woodbridge\, Ontario\, L4L 3Y1\, Canada
CATEGORIES:New Beginnings
ORGANIZER;CN="Catholic Family Services of Toronto":MAILTO:info@cfstoronto.com
END:VEVENT
BEGIN:VEVENT
DTSTART;TZID=America/New_York:20230412T140000
DTEND;TZID=America/New_York:20230412T160000
DTSTAMP:20260421T205042
CREATED:20230406T020447Z
LAST-MODIFIED:20230406T020913Z
UID:9365-1681308000-1681315200@www.cfstoronto.com
SUMMARY:Online Bereavement Introductory Program
DESCRIPTION:** Wednesday evenings until May 3rd ** \nTopic: Understanding Grief\, Transitional Dynamics\, Meaning and Emotional Management\, Renewal in and of Faith \nRegister at: https://nbb0423.eventbrite.ca
URL:https://www.cfstoronto.com/event/online-bereavement-introductory-program-2/
LOCATION:Online Via Zoom
CATEGORIES:Bereavement Support Group,New Beginnings
END:VEVENT
BEGIN:VEVENT
DTSTART;TZID=America/New_York:20230413T050000
DTEND;TZID=America/New_York:20230413T070000
DTSTAMP:20260421T205042
CREATED:20221206T102021Z
LAST-MODIFIED:20230330T174926Z
UID:6777-1681362000-1681369200@www.cfstoronto.com
SUMMARY:Managing Emotions Thoughtfully
DESCRIPTION:Subsidies are available \nA group for women who want to learn new strategies to respond to their emotions after trauma. \n  \nContact Us
URL:https://www.cfstoronto.com/event/managing-emotions-thoughtfully-2/
LOCATION:Online Via Zoom
CATEGORIES:Navigating Emotions Thoughtfully
ORGANIZER;CN="Catholic Family Services of Toronto":MAILTO:info@cfstoronto.com
END:VEVENT
BEGIN:VEVENT
DTSTART;TZID=America/New_York:20230413T140000
DTEND;TZID=America/New_York:20230413T160000
DTSTAMP:20260421T205042
CREATED:20230406T021056Z
LAST-MODIFIED:20230406T021135Z
UID:9370-1681394400-1681401600@www.cfstoronto.com
SUMMARY:Online Separated/Divorced Introductory Program
DESCRIPTION:** Thursday evenings until May 4th ** \nTopic: Understanding Grief\, Transitional Dynamics\, Meaning and Emotional Management\, Renewal in and of Faith \nRegister at: https://nbsd0423.eventbrite.ca
URL:https://www.cfstoronto.com/event/online-separated-divorced-introductory-program-2/
LOCATION:Online Via Zoom
CATEGORIES:Separated and Divorced Support Group
END:VEVENT
BEGIN:VEVENT
DTSTART;TZID=America/New_York:20230418T080000
DTEND;TZID=America/New_York:20230418T093000
DTSTAMP:20260421T205042
CREATED:20221206T095603Z
LAST-MODIFIED:20230414T004248Z
UID:6708-1681804800-1681810200@www.cfstoronto.com
SUMMARY:RISE
DESCRIPTION:A drop-in group that provides support\, resources\, and information to women who are dealing with the impact of abuse in their partner relationships. \n  \nContact Us
URL:https://www.cfstoronto.com/event/rise-2/
LOCATION:Online Via Zoom
CATEGORIES:RISE
ORGANIZER;CN="Catholic Family Services of Toronto":MAILTO:info@cfstoronto.com
END:VEVENT
BEGIN:VEVENT
DTSTART;TZID=America/New_York:20230418T140000
DTEND;TZID=America/New_York:20230418T160000
DTSTAMP:20260421T205042
CREATED:20230406T021500Z
LAST-MODIFIED:20230406T021500Z
UID:9373-1681826400-1681833600@www.cfstoronto.com
SUMMARY:Online Family Law Seminar
DESCRIPTION:Topic: A basic overview of Family Law\, to identify common family law issues and outline potential avenues for resolution. \nRegister at: https://fl0423.eventbrite.ca
URL:https://www.cfstoronto.com/event/online-family-law-seminar/
LOCATION:Online Via Zoom
CATEGORIES:Family Law
END:VEVENT
BEGIN:VEVENT
DTSTART;TZID=America/New_York:20230425T120000
DTEND;TZID=America/New_York:20230425T130000
DTSTAMP:20260421T205042
CREATED:20221126T165853Z
LAST-MODIFIED:20230330T174911Z
UID:6570-1682424000-1682427600@www.cfstoronto.com
SUMMARY:PreTeen School Age Group (PTSAG- Gr. # 7115)\, ages 11-13
DESCRIPTION:Subsidies are available
URL:https://www.cfstoronto.com/event/preteen-school-age-group-ptsag-gr-7115-ages-11-13/
LOCATION:Online Via Zoom
CATEGORIES:Because Kids are Worth It!
ORGANIZER;CN="Catholic Family Services of Toronto":MAILTO:info@cfstoronto.com
END:VEVENT
BEGIN:VEVENT
DTSTART;TZID=America/New_York:20230427T120000
DTEND;TZID=America/New_York:20230427T130000
DTSTAMP:20260421T205042
CREATED:20221126T170046Z
LAST-MODIFIED:20230331T110627Z
UID:6571-1682596800-1682600400@www.cfstoronto.com
SUMMARY:Young School Age Group (YSAG-Gr. # 7113) ages 5-7
DESCRIPTION:Subsidies are available
URL:https://www.cfstoronto.com/event/young-school-age-group-ysag-gr-7113-ages-5-7/
LOCATION:Online Via Zoom
CATEGORIES:Because Kids are Worth It!
ORGANIZER;CN="Catholic Family Services of Toronto":MAILTO:info@cfstoronto.com
END:VEVENT
BEGIN:VEVENT
DTSTART;TZID=America/New_York:20230427T130000
DTEND;TZID=America/New_York:20230427T140000
DTSTAMP:20260421T205042
CREATED:20221126T170222Z
LAST-MODIFIED:20230330T174858Z
UID:6572-1682600400-1682604000@www.cfstoronto.com
SUMMARY:Older School Age Group (OSAG-Gr. # 7714)\, ages 8-10
DESCRIPTION:Subsidies are available
URL:https://www.cfstoronto.com/event/older-school-age-group-osag-gr-7714-ages-8-10/
LOCATION:Online Via Zoom
CATEGORIES:Because Kids are Worth It!
ORGANIZER;CN="Catholic Family Services of Toronto":MAILTO:info@cfstoronto.com
END:VEVENT
BEGIN:VEVENT
DTSTART;TZID=America/New_York:20230502T050000
DTEND;TZID=America/New_York:20230502T070000
DTSTAMP:20260421T205042
CREATED:20221119T110016Z
LAST-MODIFIED:20230331T110648Z
UID:5913-1683003600-1683010800@www.cfstoronto.com
SUMMARY:Understanding Abuse
DESCRIPTION:Subsidies are available \nAn 8 to 10 week closed group for women who have experienced abuse in their intimate partner relationship. \n  \nContact Us
URL:https://www.cfstoronto.com/event/understanding-abuse-2/
LOCATION:Online Via Zoom
CATEGORIES:Understanding Abuse
ORGANIZER;CN="Catholic Family Services of Toronto":MAILTO:info@cfstoronto.com
END:VEVENT
BEGIN:VEVENT
DTSTART;TZID=America/New_York:20230503T140000
DTEND;TZID=America/New_York:20230503T160000
DTSTAMP:20260421T205042
CREATED:20221028T170618Z
LAST-MODIFIED:20230330T173635Z
UID:5688-1683122400-1683129600@www.cfstoronto.com
SUMMARY:Re-Marriage Preparation Course Group #7084
DESCRIPTION:Re-marriage preparation is a five session course that prepares couples for the Sacrament of Marriage. \nPlease complete the registration and payment to guarantee your place in the group. \nThe sessions take place at the same time for consecutive weeks unless otherwise noted. \n** Cost is per couple. \n  \n** NOTE 1 – This registration does NOT include the books. Please see your confirmation email once you’ve registered for how to purchase the course materials. Because our payment provider only sends out one confirmation email\, the registering partner will receive it immediately while the other partner will receive confirmation once we process the registration internally (usually within a few business days). \n  \n** NOTE 2 – When paying please do so with the postal code of the billing address of the card or else the payment will be declined and a hold for the full amount may be put on your card. You will be able to enter your home address when you fill out the form (second part of the registration process). \n  \n** NOTE 3 – We usually send the Zoom link out just before the start of the month in which your class begins. Since we send these out to multiple couples at once\, they sometimes go to your spam/junk mail folder. Please check there if you haven’t received the Zoom link. \n  \nNumber of Sessions: 5 \n  \nDay(s) of Week: Wednesdays
URL:https://www.cfstoronto.com/event/re-marriage-preparation-course-group-7084/
LOCATION:Online Via Zoom
CATEGORIES:Re-Marriage Preparation
ORGANIZER;CN="Catholic Family Services of Toronto":MAILTO:info@cfstoronto.com
END:VEVENT
END:VCALENDAR