BEGIN:VCALENDAR
VERSION:2.0
PRODID:-//Catholic Family Services of Toronto - ECPv6.15.20//NONSGML v1.0//EN
CALSCALE:GREGORIAN
METHOD:PUBLISH
X-WR-CALNAME:Catholic Family Services of Toronto
X-ORIGINAL-URL:https://www.cfstoronto.com
X-WR-CALDESC:Events for Catholic Family Services of Toronto
REFRESH-INTERVAL;VALUE=DURATION:PT1H
X-Robots-Tag:noindex
X-PUBLISHED-TTL:PT1H
BEGIN:VTIMEZONE
TZID:America/New_York
BEGIN:DAYLIGHT
TZOFFSETFROM:-0500
TZOFFSETTO:-0400
TZNAME:EDT
DTSTART:20210314T070000
END:DAYLIGHT
BEGIN:STANDARD
TZOFFSETFROM:-0400
TZOFFSETTO:-0500
TZNAME:EST
DTSTART:20211107T060000
END:STANDARD
BEGIN:DAYLIGHT
TZOFFSETFROM:-0500
TZOFFSETTO:-0400
TZNAME:EDT
DTSTART:20220313T070000
END:DAYLIGHT
BEGIN:STANDARD
TZOFFSETFROM:-0400
TZOFFSETTO:-0500
TZNAME:EST
DTSTART:20221106T060000
END:STANDARD
BEGIN:DAYLIGHT
TZOFFSETFROM:-0500
TZOFFSETTO:-0400
TZNAME:EDT
DTSTART:20230312T070000
END:DAYLIGHT
BEGIN:STANDARD
TZOFFSETFROM:-0400
TZOFFSETTO:-0500
TZNAME:EST
DTSTART:20231105T060000
END:STANDARD
END:VTIMEZONE
BEGIN:VEVENT
DTSTART;TZID=America/New_York:20220816T130000
DTEND;TZID=America/New_York:20220816T160000
DTSTAMP:20260421T182104
CREATED:20220712T175219Z
LAST-MODIFIED:20230331T104555Z
UID:3713-1660654800-1660665600@www.cfstoronto.com
SUMMARY:Marriage Preparation Course for Single Partners Group #7007
DESCRIPTION:Single Partners Marriage preparation is a three session course that prepares couples for th sacrament of marriage. This course is only for individuals who are getting married with partners who are not in the same time zone and cannot attend marriage prep together.
URL:https://www.cfstoronto.com/event/marriage-preparation-course-for-single-partners-group-7007/
LOCATION:Online Via Zoom
CATEGORIES:Marriage Preparation for Single Partner
ORGANIZER;CN="Catholic Family Services of Toronto":MAILTO:info@cfstoronto.com
END:VEVENT
BEGIN:VEVENT
DTSTART;TZID=America/New_York:20220806T050000
DTEND;TZID=America/New_York:20220806T080000
DTSTAMP:20260421T182104
CREATED:20220704T142027Z
LAST-MODIFIED:20230330T184358Z
UID:2777-1659762000-1659772800@www.cfstoronto.com
SUMMARY:Marriage Preparation Course for Couples Group #6889
DESCRIPTION:Marriage preparation is a four session course that prepares couples for the Sacrament of Marriage. \nPlease complete the registration and payment to guarantee your place in the group.
URL:https://www.cfstoronto.com/event/marriage-preparation-course-for-couples-group-6889/
LOCATION:Online Via Zoom
CATEGORIES:Marriage Preparation for Couples
ORGANIZER;CN="Catholic Family Services of Toronto":MAILTO:info@cfstoronto.com
END:VEVENT
BEGIN:VEVENT
DTSTART;TZID=America/New_York:20220806T050000
DTEND;TZID=America/New_York:20220806T080000
DTSTAMP:20260421T182104
CREATED:20220704T141818Z
LAST-MODIFIED:20230330T184350Z
UID:2778-1659762000-1659772800@www.cfstoronto.com
SUMMARY:Marriage Preparation Course for Couples Group #6888
DESCRIPTION:Marriage preparation is a four session course that prepares couples for the Sacrament of Marriage. \nPlease complete the registration and payment to guarantee your place in the group.
URL:https://www.cfstoronto.com/event/marriage-preparation-course-for-couples-group-6888/
LOCATION:Online Via Zoom
CATEGORIES:Marriage Preparation for Couples
ORGANIZER;CN="Catholic Family Services of Toronto":MAILTO:info@cfstoronto.com
END:VEVENT
BEGIN:VEVENT
DTSTART;TZID=America/New_York:20220803T140000
DTEND;TZID=America/New_York:20220803T160000
DTSTAMP:20260421T182104
CREATED:20220704T141622Z
LAST-MODIFIED:20230331T104734Z
UID:2752-1659535200-1659542400@www.cfstoronto.com
SUMMARY:Marriage Preparation Course for Couples Group #6887
DESCRIPTION:Marriage preparation is a six session course that prepares couples for the Sacrament of Marriage. \nPlease complete the registration and payment to guarantee your place in the group.
URL:https://www.cfstoronto.com/event/marriage-preparation-course-for-couples-group-6887/
LOCATION:Online Via Zoom
CATEGORIES:Marriage Preparation for Couples
ORGANIZER;CN="Catholic Family Services of Toronto":MAILTO:info@cfstoronto.com
END:VEVENT
BEGIN:VEVENT
DTSTART;TZID=America/New_York:20220802T140000
DTEND;TZID=America/New_York:20220802T160000
DTSTAMP:20260421T182104
CREATED:20220704T141455Z
LAST-MODIFIED:20230330T184340Z
UID:2753-1659448800-1659456000@www.cfstoronto.com
SUMMARY:Marriage Preparation Course for Couples Group #6886
DESCRIPTION:Marriage preparation is a six session course that prepares couples for the Sacrament of Marriage. \nPlease complete the registration and payment to guarantee your place in the group.
URL:https://www.cfstoronto.com/event/marriage-preparation-course-for-couples-group-6886/
LOCATION:Online Via Zoom
CATEGORIES:Marriage Preparation for Couples
ORGANIZER;CN="Catholic Family Services of Toronto":MAILTO:info@cfstoronto.com
END:VEVENT
BEGIN:VEVENT
DTSTART;TZID=America/New_York:20220728T140000
DTEND;TZID=America/New_York:20220728T160000
DTSTAMP:20260421T182104
CREATED:20220707T102710Z
LAST-MODIFIED:20230331T105425Z
UID:3328-1659016800-1659024000@www.cfstoronto.com
SUMMARY:Drop-In Separation/Divorced Support Session
DESCRIPTION:
URL:https://www.cfstoronto.com/event/drop-in-separation-divorced-support-session/
LOCATION:Online Via Zoom
CATEGORIES:New Beginnings,Separated and Divorced Support Group
ORGANIZER;CN="Catholic Family Services of Toronto":MAILTO:info@cfstoronto.com
END:VEVENT
BEGIN:VEVENT
DTSTART;TZID=America/New_York:20220727T140000
DTEND;TZID=America/New_York:20220727T160000
DTSTAMP:20260421T182104
CREATED:20220707T101834Z
LAST-MODIFIED:20230331T105427Z
UID:3312-1658930400-1658937600@www.cfstoronto.com
SUMMARY:Drop-In Bereavement Support Session
DESCRIPTION:
URL:https://www.cfstoronto.com/event/drop-in-bereavement-support-session/
LOCATION:Online Via Zoom
CATEGORIES:Bereavement Support Group,New Beginnings
ORGANIZER;CN="Catholic Family Services of Toronto":MAILTO:info@cfstoronto.com
END:VEVENT
BEGIN:VEVENT
DTSTART;TZID=America/New_York:20220719T140000
DTEND;TZID=America/New_York:20220719T160000
DTSTAMP:20260421T182104
CREATED:20220704T140246Z
LAST-MODIFIED:20230330T185016Z
UID:2730-1658239200-1658246400@www.cfstoronto.com
SUMMARY:Re-Marriage Preparation Course Group #6907
DESCRIPTION:Re-marriage preparation is a five session course that prepares couples for the Sacrament of Marriage. \nPlease complete the registration and payment to guarantee your place in the group.
URL:https://www.cfstoronto.com/event/re-marriage-preparation-course-group-6907/
LOCATION:Online Via Zoom
CATEGORIES:Re-Marriage Preparation
ORGANIZER;CN="Catholic Family Services of Toronto":MAILTO:info@cfstoronto.com
END:VEVENT
BEGIN:VEVENT
DTSTART;TZID=America/New_York:20220712T140000
DTEND;TZID=America/New_York:20220712T160000
DTSTAMP:20260421T182104
CREATED:20220704T141239Z
LAST-MODIFIED:20230330T184333Z
UID:2754-1657634400-1657641600@www.cfstoronto.com
SUMMARY:Marriage Preparation Course for Couples Group #6885
DESCRIPTION:Marriage preparation is a six session course that prepares couples for the Sacrament of Marriage. \nPlease complete the registration and payment to guarantee your place in the group.
URL:https://www.cfstoronto.com/event/marriage-preparation-course-for-couples-group-6885/
LOCATION:Online Via Zoom
CATEGORIES:Marriage Preparation for Couples
ORGANIZER;CN="Catholic Family Services of Toronto":MAILTO:info@cfstoronto.com
END:VEVENT
BEGIN:VEVENT
DTSTART;TZID=America/New_York:20220709T050000
DTEND;TZID=America/New_York:20220709T080000
DTSTAMP:20260421T182104
CREATED:20220704T140632Z
LAST-MODIFIED:20230330T184326Z
UID:2737-1657342800-1657353600@www.cfstoronto.com
SUMMARY:Marriage Preparation Course for Couples Group #6884
DESCRIPTION:Marriage preparation is a four session course that prepares couples for the Sacrament of Marriage. \nPlease complete the registration and payment to guarantee your place in the group.
URL:https://www.cfstoronto.com/event/marriage-preparation-course-for-couples-group-6884/
LOCATION:Online Via Zoom
CATEGORIES:Marriage Preparation for Couples
ORGANIZER;CN="Catholic Family Services of Toronto":MAILTO:info@cfstoronto.com
END:VEVENT
BEGIN:VEVENT
DTSTART;TZID=America/New_York:20220709T050000
DTEND;TZID=America/New_York:20220709T080000
DTSTAMP:20260421T182104
CREATED:20220704T115942Z
LAST-MODIFIED:20230330T184320Z
UID:2713-1657342800-1657353600@www.cfstoronto.com
SUMMARY:Marriage Preparation Course for Couples Group #6883
DESCRIPTION:Marriage preparation is a four session course that prepares couples for the Sacrament of Marriage. \nPlease complete the registration and payment to guarantee your place in the group.
URL:https://www.cfstoronto.com/event/marriage-preparation-course-for-couples-group-6883/
LOCATION:Online Via Zoom
CATEGORIES:Marriage Preparation for Couples
ORGANIZER;CN="Catholic Family Services of Toronto":MAILTO:info@cfstoronto.com
END:VEVENT
BEGIN:VEVENT
DTSTART;TZID=America/New_York:20220707T140000
DTEND;TZID=America/New_York:20220707T160000
DTSTAMP:20260421T182104
CREATED:20220704T105306Z
LAST-MODIFIED:20230330T184313Z
UID:2687-1657202400-1657209600@www.cfstoronto.com
SUMMARY:Marriage Preparation Course for Couples Group #6882
DESCRIPTION:Marriage preparation is a six session course that prepares couples for the Sacrament of Marriage. \nPlease complete the registration and payment to guarantee your place in the group.
URL:https://www.cfstoronto.com/event/marriage-preparation-course-for-couples-group-6882/
LOCATION:Online Via Zoom
CATEGORIES:Marriage Preparation for Couples
ORGANIZER;CN="Catholic Family Services of Toronto":MAILTO:info@cfstoronto.com
END:VEVENT
END:VCALENDAR